BEGIN:VCALENDAR
VERSION:2.0
PRODID:-//MVFP Akademie - ECPv6.15.12.2//NONSGML v1.0//EN
CALSCALE:GREGORIAN
METHOD:PUBLISH
X-ORIGINAL-URL:https://mvfp-akademie.de
X-WR-CALDESC:Veranstaltungen für MVFP Akademie
REFRESH-INTERVAL;VALUE=DURATION:PT1H
X-Robots-Tag:noindex
X-PUBLISHED-TTL:PT1H
BEGIN:VTIMEZONE
TZID:Europe/Berlin
BEGIN:DAYLIGHT
TZOFFSETFROM:+0100
TZOFFSETTO:+0200
TZNAME:CEST
DTSTART:20160327T010000
END:DAYLIGHT
BEGIN:STANDARD
TZOFFSETFROM:+0200
TZOFFSETTO:+0100
TZNAME:CET
DTSTART:20161030T010000
END:STANDARD
BEGIN:DAYLIGHT
TZOFFSETFROM:+0100
TZOFFSETTO:+0200
TZNAME:CEST
DTSTART:20170326T010000
END:DAYLIGHT
BEGIN:STANDARD
TZOFFSETFROM:+0200
TZOFFSETTO:+0100
TZNAME:CET
DTSTART:20171029T010000
END:STANDARD
BEGIN:DAYLIGHT
TZOFFSETFROM:+0100
TZOFFSETTO:+0200
TZNAME:CEST
DTSTART:20180325T010000
END:DAYLIGHT
BEGIN:STANDARD
TZOFFSETFROM:+0200
TZOFFSETTO:+0100
TZNAME:CET
DTSTART:20181028T010000
END:STANDARD
END:VTIMEZONE
BEGIN:VEVENT
DTSTART;TZID=Europe/Berlin:20170705T100000
DTEND;TZID=Europe/Berlin:20170705T170000
DTSTAMP:20260421T111311
CREATED:20170616T101806Z
LAST-MODIFIED:20170616T125415Z
UID:18415-1499248800-1499274000@mvfp-akademie.de
SUMMARY:18. Expertentagung Medienrecht
DESCRIPTION:Der Veranstalter und Vertragspartner dieses Seminars ist die Akademie der Deutschen Medien gGmbH\n \n\nNeues Urheberrecht\, VG Wort\, User Generated Content\nRechtliche Neuerungen für Verlage und Medienunternehmen\n\n#MedienrechtADM \n\nDas Event\nDas letzte Jahr hat für die Verlagsbranche so viele rechtliche Neuerungen gebracht wie selten zuvor – und weitere sind geplant. All diesen Änderungen ist eines gemeinsam: Verlage und andere Medienunternehmen geraten zunehmend in eine „Sandwichposition“ zwischen Urhebern und Verbrauchern\, deren jeweilige Rechte kontinuierlich gestärkt werden. \nSo folgen aus dem Urhebervertragsrecht neue Pflichten und weniger Rechte für Rechteverwerter. Eine Verlegerbeteiligung an den VG Wort-Erlösen gibt es überwiegend nur mit Zustimmung der Autoren. Die gesetzlichen Nutzungsbefugnisse im Bereich Bildung und Wissenschaft werden ausgeweitet und vermindern damit die finanziellen Spielräume für Verlage und andere Rechteinhaber. Und Bibliotheken streben eine gesetzliche Regelung an\, die das E-Lending künftig auch ohne Lizenz ermöglicht. Daneben schaffen internationale Internetplattformen Fakten durch die Verbreitung von Inhalten\, die durch Nutzer angeliefert werden. Vor diesem Hintergrund ist eine genaue Kenntnis der aktuellen rechtlichen Entwicklungen unabdingbar. \nKomprimiert und praxisnah erhalten Sie von Branchen-Strategen und -Experten einen Überblick zu den rechtlichen Entwicklungen und Trends für Verlage und Medienunternehmen. Sie erfahren\, was diese für Ihr Unternehmen bedeuten und erhalten Hilfestellungen und Praxis-Tipps für aktuell bestehenden Anpassungsbedarf und eventuelle strategische Neuausrichtungen. \nBei der »18. Expertentagung Medienrecht« stehen daher folgende Fragen im Fokus: \n\nWelche Auswirkungen haben die neuen rechtlichen Rahmenbedingungen auf Verlage und Medienunternehmen?\nWelche Anpassungen müssen Verlage und Medienunternehmen jetzt vornehmen?\nGibt es rechtliche Spielräume?
URL:https://mvfp-akademie.de/event/18-expertentagung-medienrecht/
LOCATION:Literaturhaus München\, Salvatorplatz 1\, München\,  80333 
CATEGORIES:Fachbereiche,Fachübergreifend,Konferenzen
ATTACH;FMTTYPE=image/jpeg:https://mvfp-akademie.de/wp-content/uploads/2017/06/paragraphs-1013482-scaled.jpg
END:VEVENT
END:VCALENDAR