BEGIN:VCALENDAR
VERSION:2.0
PRODID:-//MVFP Akademie - ECPv6.15.12.2//NONSGML v1.0//EN
CALSCALE:GREGORIAN
METHOD:PUBLISH
X-ORIGINAL-URL:https://mvfp-akademie.de
X-WR-CALDESC:Veranstaltungen für MVFP Akademie
REFRESH-INTERVAL;VALUE=DURATION:PT1H
X-Robots-Tag:noindex
X-PUBLISHED-TTL:PT1H
BEGIN:VTIMEZONE
TZID:Europe/Berlin
BEGIN:DAYLIGHT
TZOFFSETFROM:+0100
TZOFFSETTO:+0200
TZNAME:CEST
DTSTART:20170326T010000
END:DAYLIGHT
BEGIN:STANDARD
TZOFFSETFROM:+0200
TZOFFSETTO:+0100
TZNAME:CET
DTSTART:20171029T010000
END:STANDARD
BEGIN:DAYLIGHT
TZOFFSETFROM:+0100
TZOFFSETTO:+0200
TZNAME:CEST
DTSTART:20180325T010000
END:DAYLIGHT
BEGIN:STANDARD
TZOFFSETFROM:+0200
TZOFFSETTO:+0100
TZNAME:CET
DTSTART:20181028T010000
END:STANDARD
BEGIN:DAYLIGHT
TZOFFSETFROM:+0100
TZOFFSETTO:+0200
TZNAME:CEST
DTSTART:20190331T010000
END:DAYLIGHT
BEGIN:STANDARD
TZOFFSETFROM:+0200
TZOFFSETTO:+0100
TZNAME:CET
DTSTART:20191027T010000
END:STANDARD
END:VTIMEZONE
BEGIN:VEVENT
DTSTART;TZID=Europe/Berlin:20181120T100000
DTEND;TZID=Europe/Berlin:20181121T140000
DTSTAMP:20260421T073559
CREATED:20160208T165225Z
LAST-MODIFIED:20180413T084743Z
UID:10969-1542708000-1542808800@mvfp-akademie.de
SUMMARY:6. VDZ Tech Summit 2018
DESCRIPTION:
URL:https://mvfp-akademie.de/event/4-vdz-tech-summit-2016/
LOCATION:Empire Riverside Hotel\, Bernhard-Nocht-Straße 97\, Hamburg\, Hamburg\, 20359\, Deutschland
CATEGORIES:Anzeigen,IT und Digital,Konferenzen,Redaktion,Vertrieb
ATTACH;FMTTYPE=image/jpeg:https://mvfp-akademie.de/wp-content/uploads/2015/10/vdz-tech-summit-logo-only-2.jpg
END:VEVENT
END:VCALENDAR