BEGIN:VCALENDAR
VERSION:2.0
PRODID:-//MVFP Akademie - ECPv6.15.12.2//NONSGML v1.0//EN
CALSCALE:GREGORIAN
METHOD:PUBLISH
X-ORIGINAL-URL:https://mvfp-akademie.de
X-WR-CALDESC:Veranstaltungen für MVFP Akademie
REFRESH-INTERVAL;VALUE=DURATION:PT1H
X-Robots-Tag:noindex
X-PUBLISHED-TTL:PT1H
BEGIN:VTIMEZONE
TZID:Europe/Berlin
BEGIN:DAYLIGHT
TZOFFSETFROM:+0100
TZOFFSETTO:+0200
TZNAME:CEST
DTSTART:20140330T010000
END:DAYLIGHT
BEGIN:STANDARD
TZOFFSETFROM:+0200
TZOFFSETTO:+0100
TZNAME:CET
DTSTART:20141026T010000
END:STANDARD
BEGIN:DAYLIGHT
TZOFFSETFROM:+0100
TZOFFSETTO:+0200
TZNAME:CEST
DTSTART:20150329T010000
END:DAYLIGHT
BEGIN:STANDARD
TZOFFSETFROM:+0200
TZOFFSETTO:+0100
TZNAME:CET
DTSTART:20151025T010000
END:STANDARD
BEGIN:DAYLIGHT
TZOFFSETFROM:+0100
TZOFFSETTO:+0200
TZNAME:CEST
DTSTART:20160327T010000
END:DAYLIGHT
BEGIN:STANDARD
TZOFFSETFROM:+0200
TZOFFSETTO:+0100
TZNAME:CET
DTSTART:20161030T010000
END:STANDARD
END:VTIMEZONE
BEGIN:VEVENT
DTSTART;TZID=Europe/Berlin:20150910T093000
DTEND;TZID=Europe/Berlin:20150910T170000
DTSTAMP:20260423T140749
CREATED:20150901T190515Z
LAST-MODIFIED:20151007T085128Z
UID:1361-1441877400-1441904400@mvfp-akademie.de
SUMMARY:Abomarketing wirtschaftlich erfolgreich steuern! Effizient und effektiv – Von der Ableitung zielorientierter KPIs zur operativen Umsetzung
DESCRIPTION:Erfolgreiches Abomarketing ist für Verleger von stark wachsender wirtschaftlicher Bedeutung – gleich\, ob es sich um die Vermarktung klassischer Print- oder um Digital-Abonnements handelt. Viele Verleger haben ihre Vermarktung in allen On- und Offline-Vertriebskanälen immer weiter verfeinert und perfektioniert. Aber: Die Dinge „nur“ richtig zu tun\, reicht heute nicht mehr aus\, um nachhaltig erfolgreich sein zu können.\n\nGroße Sparpotenziale und/oder Erlöszuwächse können auch heute noch realisiert werden\, wenn die richtigen Ziele für jede Publikation\, in jedem Vertriebskanal und mit jeder Angebotsform definiert und stringent verfolgt werden. Aber wie definiert man „die richtigen Ziele“? Und wie setzt man richtige Zielsetzungen in einfache operative Guidelines und KPIs um?\n\nDas Seminar vermittelt an Hand eines Fallbeispieles und weiterer Beispiele aus der Praxis einen umfassenden Ansatz\, mit dem man einfach unternehmerische Ziele und adäquate KPI-Leitplanken definiert und das Abo-Marketing operativ steuert. Dies geschieht zum Teil in Gruppenarbeiten\, um den Teilnehmern die praktische Anwendung des Systems zu ermöglichen.
URL:https://mvfp-akademie.de/event/abomarketing-wirtschaftlich-erfolgreich-steuern/
LOCATION:Novotel Hamburg Alster\, Lübecker Straße 3\, Hamburg\, Hamburg\, 22087\, Deutschland
CATEGORIES:Vertrieb
ATTACH;FMTTYPE=image/jpeg:https://mvfp-akademie.de/wp-content/uploads/2015/09/Fotolia_52695682_XL_copyright_-Mapics-scaled.jpg
END:VEVENT
END:VCALENDAR