BEGIN:VCALENDAR
VERSION:2.0
PRODID:-//MVFP Akademie - ECPv6.15.12.2//NONSGML v1.0//EN
CALSCALE:GREGORIAN
METHOD:PUBLISH
X-ORIGINAL-URL:https://mvfp-akademie.de
X-WR-CALDESC:Veranstaltungen für MVFP Akademie
REFRESH-INTERVAL;VALUE=DURATION:PT1H
X-Robots-Tag:noindex
X-PUBLISHED-TTL:PT1H
BEGIN:VTIMEZONE
TZID:Europe/Berlin
BEGIN:DAYLIGHT
TZOFFSETFROM:+0100
TZOFFSETTO:+0200
TZNAME:CEST
DTSTART:20170326T010000
END:DAYLIGHT
BEGIN:STANDARD
TZOFFSETFROM:+0200
TZOFFSETTO:+0100
TZNAME:CET
DTSTART:20171029T010000
END:STANDARD
BEGIN:DAYLIGHT
TZOFFSETFROM:+0100
TZOFFSETTO:+0200
TZNAME:CEST
DTSTART:20180325T010000
END:DAYLIGHT
BEGIN:STANDARD
TZOFFSETFROM:+0200
TZOFFSETTO:+0100
TZNAME:CET
DTSTART:20181028T010000
END:STANDARD
BEGIN:DAYLIGHT
TZOFFSETFROM:+0100
TZOFFSETTO:+0200
TZNAME:CEST
DTSTART:20190331T010000
END:DAYLIGHT
BEGIN:STANDARD
TZOFFSETFROM:+0200
TZOFFSETTO:+0100
TZNAME:CET
DTSTART:20191027T010000
END:STANDARD
END:VTIMEZONE
BEGIN:VEVENT
DTSTART;TZID=Europe/Berlin:20180607T093000
DTEND;TZID=Europe/Berlin:20180607T170000
DTSTAMP:20260423T081451
CREATED:20171220T095739Z
LAST-MODIFIED:20171220T101752Z
UID:19651-1528363800-1528390800@mvfp-akademie.de
SUMMARY:Augmented und Virtual Reality für Printmedien
DESCRIPTION:Der Veranstalter und Vertragspartner  ist der mediacampus frankfurt.\n    ANMELDUNG\n\nDas Internet hat unseren Medienkonsum nachhaltig verändert und wir haben heute über Mobilgeräte jederzeit an jedem Ort Zugriff auf jede Information. Augmented Reality (AR) geht noch einen Schritt weiter: Digitale Inhalte reichern analoge Medien an\, so werden Zeitschriften\, Bücher und Werbeflächen zu Brücken in die digitale Content-Welt. Der Einsatz von Virtual Reality (VR) entführt den Nutzer in komplett virtuelle Umgebungen\, in denen er zum Beispiel 360°-Filme erleben oder mit der künstlichen Welt interagieren kann. Im Seminar erhalten Sie spannende Einblicke in die virtuelle Welt und erfahren den Nutzen für Ihre Verlagsprodukte.
URL:https://mvfp-akademie.de/event/augmented-und-virtual-reality-fuer-printmedien/
LOCATION:Börsenverein Nordrhein-Westfalen\, Kaiserstraße 42a\,  Düsseldorf\, 40479
CATEGORIES:Fachübergreifend,IT und Digital
ATTACH;FMTTYPE=image/jpeg:https://mvfp-akademie.de/wp-content/uploads/2017/12/9RD8UKZ8H8-scaled.jpg
END:VEVENT
END:VCALENDAR