BEGIN:VCALENDAR
VERSION:2.0
PRODID:-//MVFP Akademie - ECPv6.15.12.2//NONSGML v1.0//EN
CALSCALE:GREGORIAN
METHOD:PUBLISH
X-ORIGINAL-URL:https://mvfp-akademie.de
X-WR-CALDESC:Veranstaltungen für MVFP Akademie
REFRESH-INTERVAL;VALUE=DURATION:PT1H
X-Robots-Tag:noindex
X-PUBLISHED-TTL:PT1H
BEGIN:VTIMEZONE
TZID:Europe/Berlin
BEGIN:DAYLIGHT
TZOFFSETFROM:+0100
TZOFFSETTO:+0200
TZNAME:CEST
DTSTART:20210328T010000
END:DAYLIGHT
BEGIN:STANDARD
TZOFFSETFROM:+0200
TZOFFSETTO:+0100
TZNAME:CET
DTSTART:20211031T010000
END:STANDARD
BEGIN:DAYLIGHT
TZOFFSETFROM:+0100
TZOFFSETTO:+0200
TZNAME:CEST
DTSTART:20220327T010000
END:DAYLIGHT
BEGIN:STANDARD
TZOFFSETFROM:+0200
TZOFFSETTO:+0100
TZNAME:CET
DTSTART:20221030T010000
END:STANDARD
BEGIN:DAYLIGHT
TZOFFSETFROM:+0100
TZOFFSETTO:+0200
TZNAME:CEST
DTSTART:20230326T010000
END:DAYLIGHT
BEGIN:STANDARD
TZOFFSETFROM:+0200
TZOFFSETTO:+0100
TZNAME:CET
DTSTART:20231029T010000
END:STANDARD
END:VTIMEZONE
BEGIN:VEVENT
DTSTART;TZID=Europe/Berlin:20220223T110000
DTEND;TZID=Europe/Berlin:20220223T120000
DTSTAMP:20260425T210716
CREATED:20220126T130737Z
LAST-MODIFIED:20220126T152817Z
UID:34327-1645614000-1645617600@mvfp-akademie.de
SUMMARY:Datenbasierte Steuerung redaktioneller Produkte
DESCRIPTION:Chancen für Reichweite\, Engagement und Umsatz\nfrühzeitig erkennen und nutzen \n\nEffektive Steuerung der eigenen Website und die optimale Ausspielung der Inhalte sind die Grundbausteine eines erfolgreichen digital-journalistischen Geschäftsmodells. Dabei soll das Angebot so ausgesteuert werden\, dass Engagement\, Nutzerbindung und Umsätze im Einklang stehen. \nWie Redaktionen und Publisher ihre Daten über die Nutzung ihrer Seite und Inhalte einsetzen können\, um bessere Entscheidungen zur kurz- und langfristigen Steuerung des Angebotes zu treffen\, erfahren Sie in dieser Web-Session. \nDarüber hinaus zeigt der Geschäftsführer von Upscore\, Andreas Demuth\, wie automatisierte Content-Empfehlungen erfolgreich für unterschiedliche Ziele genutzt und Analytics DSGVO- und TTDSG-konform eingesetzt werden können. \n\n>> zur kostenfreien Anmeldung <<
URL:https://mvfp-akademie.de/event/datenbasierte-steuerung-redaktioneller-produkte-chancen-fuer-reichweite-engagement-und-umsatz-fruehzeitig-erkennen-und-nutzen/
LOCATION:Die Durchführung erfolgt DIGITAL!
CATEGORIES:Fachübergreifend,IT und Digital,Marketing,Vertrieb,WebSeminare
ATTACH;FMTTYPE=image/jpeg:https://mvfp-akademie.de/wp-content/uploads/2018/01/05_Produkt-und-Content-Manager-digital-scaled.jpg
END:VEVENT
END:VCALENDAR