BEGIN:VCALENDAR
VERSION:2.0
PRODID:-//MVFP Akademie - ECPv6.15.12.2//NONSGML v1.0//EN
CALSCALE:GREGORIAN
METHOD:PUBLISH
X-ORIGINAL-URL:https://mvfp-akademie.de
X-WR-CALDESC:Veranstaltungen für MVFP Akademie
REFRESH-INTERVAL;VALUE=DURATION:PT1H
X-Robots-Tag:noindex
X-PUBLISHED-TTL:PT1H
BEGIN:VTIMEZONE
TZID:Europe/Berlin
BEGIN:DAYLIGHT
TZOFFSETFROM:+0100
TZOFFSETTO:+0200
TZNAME:CEST
DTSTART:20170326T010000
END:DAYLIGHT
BEGIN:STANDARD
TZOFFSETFROM:+0200
TZOFFSETTO:+0100
TZNAME:CET
DTSTART:20171029T010000
END:STANDARD
BEGIN:DAYLIGHT
TZOFFSETFROM:+0100
TZOFFSETTO:+0200
TZNAME:CEST
DTSTART:20180325T010000
END:DAYLIGHT
BEGIN:STANDARD
TZOFFSETFROM:+0200
TZOFFSETTO:+0100
TZNAME:CET
DTSTART:20181028T010000
END:STANDARD
BEGIN:DAYLIGHT
TZOFFSETFROM:+0100
TZOFFSETTO:+0200
TZNAME:CEST
DTSTART:20190331T010000
END:DAYLIGHT
BEGIN:STANDARD
TZOFFSETFROM:+0200
TZOFFSETTO:+0100
TZNAME:CET
DTSTART:20191027T010000
END:STANDARD
END:VTIMEZONE
BEGIN:VEVENT
DTSTART;TZID=Europe/Berlin:20181106T103000
DTEND;TZID=Europe/Berlin:20181106T120000
DTSTAMP:20260424T102700
CREATED:20181002T143301Z
LAST-MODIFIED:20181004T110100Z
UID:22193-1541500200-1541505600@mvfp-akademie.de
SUMMARY:Deep Dive Session „Silicon China – Das Silicon Valley hat einen innovativen Herausforderer“
DESCRIPTION:Tauchen Sie als Teilnehmer in die wirtschaftliche\, technologische und Plattform-Entwicklung Chinas als neuer Innovation Hub ein. Schon jetzt kommt die Hälfte der wertvollsten Internetfirmen aus China. Alibaba\, Tencent und DiDi sind auf Augenhöhe mit den US Plattformen Amazon\, Facebook und Uber. Chinesische Firmen sind zudem im Vergleich zum Westen in vielen Bereichen auf der Überholspur: bei Mobile Payment\, Mobile Commerce\, kassiererlosen Supermärkten\, Sharing Economy\, bei neuen Medienformaten wie Messaging (WeChat)\, News Apps (Toutiao)\, Short Video und Live Streaming. Dr. Tu-Lam Pham\, Gründer und Geschäftsführer Digital IQ\, präsentiert und diskutiert in konzentrierter  Form digitale Geschäftsmodelle\, zieht Vergleiche mit dem Silicon Valley\, gibt Insights in Chinas digitales Wachstum und zeigt Ideen für Verlage auf. \nLesen Sie mehr über „Silicon China“ in der PRINT&more. \n 
URL:https://mvfp-akademie.de/event/deep-dive-session-silicon-china-das-silicon-valley-hat-einen-innovativen-herausforderer/
LOCATION:bcc Berlin Congress Center\, Alexanderstraße 11\, Berlin\, 10178
CATEGORIES:Fachübergreifend,IT und Digital,WebSeminare
ATTACH;FMTTYPE=image/jpeg:https://mvfp-akademie.de/wp-content/uploads/2018/01/iStock-502775790_lesleywang2015_01-e1520245263307.jpg
END:VEVENT
END:VCALENDAR