BEGIN:VCALENDAR
VERSION:2.0
PRODID:-//MVFP Akademie - ECPv6.15.12.2//NONSGML v1.0//EN
CALSCALE:GREGORIAN
METHOD:PUBLISH
X-ORIGINAL-URL:https://mvfp-akademie.de
X-WR-CALDESC:Veranstaltungen für MVFP Akademie
REFRESH-INTERVAL;VALUE=DURATION:PT1H
X-Robots-Tag:noindex
X-PUBLISHED-TTL:PT1H
BEGIN:VTIMEZONE
TZID:Europe/Berlin
BEGIN:DAYLIGHT
TZOFFSETFROM:+0100
TZOFFSETTO:+0200
TZNAME:CEST
DTSTART:20140330T010000
END:DAYLIGHT
BEGIN:STANDARD
TZOFFSETFROM:+0200
TZOFFSETTO:+0100
TZNAME:CET
DTSTART:20141026T010000
END:STANDARD
BEGIN:DAYLIGHT
TZOFFSETFROM:+0100
TZOFFSETTO:+0200
TZNAME:CEST
DTSTART:20150329T010000
END:DAYLIGHT
BEGIN:STANDARD
TZOFFSETFROM:+0200
TZOFFSETTO:+0100
TZNAME:CET
DTSTART:20151025T010000
END:STANDARD
BEGIN:DAYLIGHT
TZOFFSETFROM:+0100
TZOFFSETTO:+0200
TZNAME:CEST
DTSTART:20160327T010000
END:DAYLIGHT
BEGIN:STANDARD
TZOFFSETFROM:+0200
TZOFFSETTO:+0100
TZNAME:CET
DTSTART:20161030T010000
END:STANDARD
END:VTIMEZONE
BEGIN:VEVENT
DTSTART;TZID=Europe/Berlin:20150924T093000
DTEND;TZID=Europe/Berlin:20150924T170000
DTSTAMP:20260423T140625
CREATED:20150901T155620Z
LAST-MODIFIED:20151007T085913Z
UID:1203-1443087000-1443114000@mvfp-akademie.de
SUMMARY:Der Teaser ist der Haken: Funktion und Wirkung - Dramatische Struktur und Aufbau - Kreativtechniken und Stilkunde
DESCRIPTION:Ist der Leser erst einmal an der Angel liest er weiter. Der Teaser ist die am häufigsten verwendete Textsorte im Print- und Online-Bereich. Er ist keine Zusammenfassung oder Themenüberblick\, das wird meistens falsch verstanden\, sondern er macht neugierig auf das was folgt. Bis hierher haben auch Sie gelesen und jetzt wird es spannend. Wie schreibt man wirkungsvolle Teaser? Wie sind sie aufgebaut? Wie kommt man auf eine Text-Idee? Welchen Stil verwendet man? Hier toben wir uns aus. Baden Sie im Text und erleben Sie kreatives Schreiben am praktischen Beispiel mit wirkungsvollen Kreativtechniken. Der dicke Fisch ist an der Angel. Warum hat er angebissen?
URL:https://mvfp-akademie.de/event/der-teaser-ist-der-haken/
LOCATION:Mercure Hotel Hamburg Mitte\, Schröderstiftstraße 3\, Hamburg\, 20146
CATEGORIES:Anzeigen,Redaktion,Vertrieb
ATTACH;FMTTYPE=image/jpeg:https://mvfp-akademie.de/wp-content/uploads/2015/09/Fotolia_67637833_XL_Marco2811-scaled.jpg
END:VEVENT
END:VCALENDAR