BEGIN:VCALENDAR
VERSION:2.0
PRODID:-//MVFP Akademie - ECPv6.15.12.2//NONSGML v1.0//EN
CALSCALE:GREGORIAN
METHOD:PUBLISH
X-ORIGINAL-URL:https://mvfp-akademie.de
X-WR-CALDESC:Veranstaltungen für MVFP Akademie
REFRESH-INTERVAL;VALUE=DURATION:PT1H
X-Robots-Tag:noindex
X-PUBLISHED-TTL:PT1H
BEGIN:VTIMEZONE
TZID:Europe/Berlin
BEGIN:DAYLIGHT
TZOFFSETFROM:+0100
TZOFFSETTO:+0200
TZNAME:CEST
DTSTART:20140330T010000
END:DAYLIGHT
BEGIN:STANDARD
TZOFFSETFROM:+0200
TZOFFSETTO:+0100
TZNAME:CET
DTSTART:20141026T010000
END:STANDARD
BEGIN:DAYLIGHT
TZOFFSETFROM:+0100
TZOFFSETTO:+0200
TZNAME:CEST
DTSTART:20150329T010000
END:DAYLIGHT
BEGIN:STANDARD
TZOFFSETFROM:+0200
TZOFFSETTO:+0100
TZNAME:CET
DTSTART:20151025T010000
END:STANDARD
BEGIN:DAYLIGHT
TZOFFSETFROM:+0100
TZOFFSETTO:+0200
TZNAME:CEST
DTSTART:20160327T010000
END:DAYLIGHT
BEGIN:STANDARD
TZOFFSETFROM:+0200
TZOFFSETTO:+0100
TZNAME:CET
DTSTART:20161030T010000
END:STANDARD
END:VTIMEZONE
BEGIN:VEVENT
DTSTART;TZID=Europe/Berlin:20150923T093000
DTEND;TZID=Europe/Berlin:20150923T170000
DTSTAMP:20260423T140246
CREATED:20150902T070756Z
LAST-MODIFIED:20151007T085751Z
UID:1383-1443000600-1443027600@mvfp-akademie.de
SUMMARY:Durch Automatisierung zu profitablem Digital Publishing: Automatisierungsmöglichkeiten bei Produktion\, Kuration und Distribution von Inhalten
DESCRIPTION:Die digitale Welt beeinflusst den Medienkonsum der Nutzer fortwährend und nachhaltig. Doch die zunehmende Datenmenge stellt auch neue Anforderungen an die Erstellung und Distribution von Inhalten. Unterstützung der Redakteure\, Producer und Digital Marketeers durch intelligente Technologie wird zum elementaren Wettbewerbsfaktor. Nur durch die Automatisierung von Prozessen wird es zukünftig möglich sein\, kostengünstig individualisierte und vermarktungsrelevante Angebote zu produzieren und zu vertreiben. Medienhäuser stellt das vor elementare Herausforderungen bei der Auswahl der richtigen Technologien für die Produktion\, Kuration und Distribution ihrer Inhalte. \nDer Workshop setzt genau dort an und beleuchtet die verschiedenen Formen der Automatisierung. Ziel des Workshops ist es\, den Teilnehmern Orientierung bei der zukunftsorientierten Auswahl von Technologien zu geben.
URL:https://mvfp-akademie.de/event/durch-automatisierung-zu-profitablem-digital-publishing/
LOCATION:betahaus Hamburg – hub23 coworking UG\, Eifflerstraße 43\, Hamburg\, Hamburg\, 22769\, Deutschland
CATEGORIES:IT und Digital,Redaktion
ATTACH;FMTTYPE=image/jpeg:https://mvfp-akademie.de/wp-content/uploads/2015/09/Fotolia_61655543_XXL_IndustryAndTravel_01-scaled.jpg
END:VEVENT
END:VCALENDAR