BEGIN:VCALENDAR
VERSION:2.0
PRODID:-//MVFP Akademie - ECPv6.15.12.2//NONSGML v1.0//EN
CALSCALE:GREGORIAN
METHOD:PUBLISH
X-ORIGINAL-URL:https://mvfp-akademie.de
X-WR-CALDESC:Veranstaltungen für MVFP Akademie
REFRESH-INTERVAL;VALUE=DURATION:PT1H
X-Robots-Tag:noindex
X-PUBLISHED-TTL:PT1H
BEGIN:VTIMEZONE
TZID:Europe/Berlin
BEGIN:DAYLIGHT
TZOFFSETFROM:+0100
TZOFFSETTO:+0200
TZNAME:CEST
DTSTART:20190331T010000
END:DAYLIGHT
BEGIN:STANDARD
TZOFFSETFROM:+0200
TZOFFSETTO:+0100
TZNAME:CET
DTSTART:20191027T010000
END:STANDARD
BEGIN:DAYLIGHT
TZOFFSETFROM:+0100
TZOFFSETTO:+0200
TZNAME:CEST
DTSTART:20200329T010000
END:DAYLIGHT
BEGIN:STANDARD
TZOFFSETFROM:+0200
TZOFFSETTO:+0100
TZNAME:CET
DTSTART:20201025T010000
END:STANDARD
BEGIN:DAYLIGHT
TZOFFSETFROM:+0100
TZOFFSETTO:+0200
TZNAME:CEST
DTSTART:20210328T010000
END:DAYLIGHT
BEGIN:STANDARD
TZOFFSETFROM:+0200
TZOFFSETTO:+0100
TZNAME:CET
DTSTART:20211031T010000
END:STANDARD
END:VTIMEZONE
BEGIN:VEVENT
DTSTART;TZID=Europe/Berlin:20201201T110000
DTEND;TZID=Europe/Berlin:20201201T120000
DTSTAMP:20260425T133713
CREATED:20201028T140809Z
LAST-MODIFIED:20201028T141320Z
UID:30517-1606820400-1606824000@mvfp-akademie.de
SUMMARY:Einfach "Tasty": Vom Social Media Experiment zum analogen Kassenschlager
DESCRIPTION:BuzzFeed ist bei der jungen Zielgruppe für seine „snackable“ Nachrichten und Entertainment-Inhalte beliebt. Großen Erfolg feiert die Marke EINFACH TASTY\, die mit Rezepten und praktische Küchen-Lifehacks mehr als 2\,8 Mio Abonnenten auf Facebook begeistert. In der WebSession erfahren Sie wie sich eine Social Media Marke aufbauen und analog monetarisieren lässt.
URL:https://mvfp-akademie.de/event/einfach-tasty-vom-social-media-experiment-zum-analogen-kassenschlager/
LOCATION:Die Durchführung erfolgt DIGITAL!
CATEGORIES:Fachübergreifend,Marketing,Vertrieb
ATTACH;FMTTYPE=image/png:https://mvfp-akademie.de/wp-content/uploads/2020/10/social-media-3846597_1280.png
END:VEVENT
END:VCALENDAR