BEGIN:VCALENDAR
VERSION:2.0
PRODID:-//MVFP Akademie - ECPv6.15.12.2//NONSGML v1.0//EN
CALSCALE:GREGORIAN
METHOD:PUBLISH
X-ORIGINAL-URL:https://mvfp-akademie.de
X-WR-CALDESC:Veranstaltungen für MVFP Akademie
REFRESH-INTERVAL;VALUE=DURATION:PT1H
X-Robots-Tag:noindex
X-PUBLISHED-TTL:PT1H
BEGIN:VTIMEZONE
TZID:Europe/Berlin
BEGIN:DAYLIGHT
TZOFFSETFROM:+0100
TZOFFSETTO:+0200
TZNAME:CEST
DTSTART:20170326T010000
END:DAYLIGHT
BEGIN:STANDARD
TZOFFSETFROM:+0200
TZOFFSETTO:+0100
TZNAME:CET
DTSTART:20171029T010000
END:STANDARD
BEGIN:DAYLIGHT
TZOFFSETFROM:+0100
TZOFFSETTO:+0200
TZNAME:CEST
DTSTART:20180325T010000
END:DAYLIGHT
BEGIN:STANDARD
TZOFFSETFROM:+0200
TZOFFSETTO:+0100
TZNAME:CET
DTSTART:20181028T010000
END:STANDARD
BEGIN:DAYLIGHT
TZOFFSETFROM:+0100
TZOFFSETTO:+0200
TZNAME:CEST
DTSTART:20190331T010000
END:DAYLIGHT
BEGIN:STANDARD
TZOFFSETFROM:+0200
TZOFFSETTO:+0100
TZNAME:CET
DTSTART:20191027T010000
END:STANDARD
END:VTIMEZONE
BEGIN:VEVENT
DTSTART;TZID=Europe/Berlin:20180502T000000
DTEND;TZID=Europe/Berlin:20180506T000000
DTSTAMP:20260420T165521
CREATED:20171114T140609Z
LAST-MODIFIED:20180404T141311Z
UID:19471-1525219200-1525564800@mvfp-akademie.de
SUMMARY:Fachwirt für Medienmarketing und - Vertrieb (ihk)
DESCRIPTION:Der Veranstalter und Vertragspartner des Fachwirts ist der mediacampus frankfurt.\n    ANMELDUNG\n\nIn gut eineinhalb Jahren zur qualifizierten Fach- und Führungskraft in Marketing und Vertrieb: neue Handlungsfelder erschließen und den eigenen  Verantwortungsbereich erweitern. Allen\, die sich mit einem höher qualifizierten Abschluss neue Karrierewege in einem der vielfältigsten Bereiche eröffnen möchten\, bietet die Fortbildung zum «Fachwirt für Medienmarketing und -vertrieb (IHK)» die ideale Voraussetzung. \nIn der Medienbranche sind Fach- und Führungskräfte mit Erfahrung und tiefem Branchenwissen gefragt\, die betriebs- und personalwirtschaftliche Zusammenhänge erkennen und eigenverantwortlich Aspekte medienspezifischer Vermarktung und Distribution umsetzen. In Zusammenarbeit mit dem IHK Bildungszentrum Frankfurt am Main haben wir mit dem «Fachwirt für Medienmarketing und -vertrieb (IHK)» eine passgenaue Fortbildung für die Medienbranche entwickelt\, die für all jene ideal ist\, die eine zielführende und praxisnahe Weiterbildung suchen – ohne den Beruf aufzugeben.\n \nZiele\nZiele der Aufstiegsfortbildung sind\, angehende Fach- und Führungskräfte für strategische  und Management-Aufgaben in Marketing- und Vertriebsabteilungen von Verlagen und Medienunternehmen zu qualifizieren sowie branchenaktuelle Inhalte und deren direkte Umsetzung im Unternehmen praxisnah zu vermitteln. Der Lehrgang zum «Fachwirt für Medienmarketing und -vertrieb (IHK)» ist optimal auf die Fachwirtprüfung vor der IHK Frankfurt am Main zugeschnitten. Sie werden kompetent begleitet und erlernen alle Inhalte\, die prüfungsrelevant sind. \nStruktur und Methoden\nDie Fortbildung beginnt einmal pro Jahr. In einzelnen Präsenzphasen werden vier wirtschaftsbezogene und vier handlungsspezifische Bereiche erarbeitet. Beide Blöcke werden mit Prüfungen vor der IHK Frankfurt abgeschlossen. Begleitet werden die Präsenzphasen am mediacampus frankfurt durch E-Learning-Einheiten\, die zu Hause absolviert werden. Zusätzlich erhalten alle Teilnehmer Skripte und Übungsmaterialien zur Vertiefung der Themen. Über die internetbasierte Lernplattform findet untereinander ein Austausch in Foren und Chats über Lerninhalte und Aufgaben statt.
URL:https://mvfp-akademie.de/event/fachwirt-fuer-medienmarketing-und-vertrieb-ihk/
LOCATION:mediacampus frankfurt\, Wilhelmshöher Straße 283 \, Frankfurt / Main\, Hessen\, 60389\, Deutschland
CATEGORIES:Marketing
ATTACH;FMTTYPE=image/jpeg:https://mvfp-akademie.de/wp-content/uploads/2017/08/executive-534417_1920.jpg
END:VEVENT
END:VCALENDAR