BEGIN:VCALENDAR
VERSION:2.0
PRODID:-//MVFP Akademie - ECPv6.15.12.2//NONSGML v1.0//EN
CALSCALE:GREGORIAN
METHOD:PUBLISH
X-ORIGINAL-URL:https://mvfp-akademie.de
X-WR-CALDESC:Veranstaltungen für MVFP Akademie
REFRESH-INTERVAL;VALUE=DURATION:PT1H
X-Robots-Tag:noindex
X-PUBLISHED-TTL:PT1H
BEGIN:VTIMEZONE
TZID:Europe/Berlin
BEGIN:DAYLIGHT
TZOFFSETFROM:+0100
TZOFFSETTO:+0200
TZNAME:CEST
DTSTART:20240331T010000
END:DAYLIGHT
BEGIN:STANDARD
TZOFFSETFROM:+0200
TZOFFSETTO:+0100
TZNAME:CET
DTSTART:20241027T010000
END:STANDARD
BEGIN:DAYLIGHT
TZOFFSETFROM:+0100
TZOFFSETTO:+0200
TZNAME:CEST
DTSTART:20250330T010000
END:DAYLIGHT
BEGIN:STANDARD
TZOFFSETFROM:+0200
TZOFFSETTO:+0100
TZNAME:CET
DTSTART:20251026T010000
END:STANDARD
BEGIN:DAYLIGHT
TZOFFSETFROM:+0100
TZOFFSETTO:+0200
TZNAME:CEST
DTSTART:20260329T010000
END:DAYLIGHT
BEGIN:STANDARD
TZOFFSETFROM:+0200
TZOFFSETTO:+0100
TZNAME:CET
DTSTART:20261025T010000
END:STANDARD
END:VTIMEZONE
BEGIN:VEVENT
DTSTART;TZID=Europe/Berlin:20251125T093000
DTEND;TZID=Europe/Berlin:20251125T150000
DTSTAMP:20260419T164214
CREATED:20250704T131425Z
LAST-MODIFIED:20251124T095019Z
UID:54161-1764063000-1764082800@mvfp-akademie.de
SUMMARY:KI-Agenten in der Medienpraxis: Assistenten\, Automatisierung und autonome Systeme
DESCRIPTION:Während des praxisorientierten WebSeminars mit Workshopelementen werden die fundamentalen Unterschiede zwischen AI-Assistenten\, AI-Automatisierung und AI-Agenten erklärt und durch Live-Demonstrationen und medienspezifische Anwendungsfälle untermauert. Die Teilnehmenden lernen systematisch\, welche KI-Technologie für welche Medienaufgabe die richtige ist\, wie sie diese strategisch in den Arbeitsalltag integrieren und dadurch langfristig Effizienzgewinne und Prozessoptimierung erreichen können. \nNach dem Workshopteil mit AI Experte Rico Loschke am Vormittag\, folgen nach der Mittagspause Verlagscases direkt aus verschiedenen Medienunternehmen. Mit dabei ist Sales Impact zum Thema „Notwendigkeit eines KI Assistenten bei Axel Springer abseits eigener GPTs“ sowie falkemedia. \n \n \n 
URL:https://mvfp-akademie.de/event/ki-agenten-in-der-medienpraxis-assistenten-automatisierung-und-autonome-systeme/
LOCATION:Die Durchführung erfolgt DIGITAL!
CATEGORIES:Fachübergreifend,IT und Digital,KI
ATTACH;FMTTYPE=image/jpeg:https://mvfp-akademie.de/wp-content/uploads/2025/07/Header-AI-Agents-1200x300-px-High-Quality.jpg
END:VEVENT
END:VCALENDAR