BEGIN:VCALENDAR
VERSION:2.0
PRODID:-//MVFP Akademie - ECPv6.15.12.2//NONSGML v1.0//EN
CALSCALE:GREGORIAN
METHOD:PUBLISH
X-ORIGINAL-URL:https://mvfp-akademie.de
X-WR-CALDESC:Veranstaltungen für MVFP Akademie
REFRESH-INTERVAL;VALUE=DURATION:PT1H
X-Robots-Tag:noindex
X-PUBLISHED-TTL:PT1H
BEGIN:VTIMEZONE
TZID:Europe/Berlin
BEGIN:DAYLIGHT
TZOFFSETFROM:+0100
TZOFFSETTO:+0200
TZNAME:CEST
DTSTART:20200329T010000
END:DAYLIGHT
BEGIN:STANDARD
TZOFFSETFROM:+0200
TZOFFSETTO:+0100
TZNAME:CET
DTSTART:20201025T010000
END:STANDARD
BEGIN:DAYLIGHT
TZOFFSETFROM:+0100
TZOFFSETTO:+0200
TZNAME:CEST
DTSTART:20210328T010000
END:DAYLIGHT
BEGIN:STANDARD
TZOFFSETFROM:+0200
TZOFFSETTO:+0100
TZNAME:CET
DTSTART:20211031T010000
END:STANDARD
BEGIN:DAYLIGHT
TZOFFSETFROM:+0100
TZOFFSETTO:+0200
TZNAME:CEST
DTSTART:20220327T010000
END:DAYLIGHT
BEGIN:STANDARD
TZOFFSETFROM:+0200
TZOFFSETTO:+0100
TZNAME:CET
DTSTART:20221030T010000
END:STANDARD
END:VTIMEZONE
BEGIN:VEVENT
DTSTART;TZID=Europe/Berlin:20210101T090000
DTEND;TZID=Europe/Berlin:20210101T170000
DTSTAMP:20260422T051344
CREATED:20201130T102221Z
LAST-MODIFIED:20210126T153300Z
UID:30929-1609491600-1609520400@mvfp-akademie.de
SUMMARY:Kollaboration erleben - Das Update für Ihre digitale Zusammenarbeit
DESCRIPTION:Digitalisierung bedeutet vor allem eines: Vernetzung. Die rasante technische Entwicklung der letzten Jahre ermöglicht es uns\, von völlig neuen Arten der Zusammenarbeit zu profitieren. An verschiedenen Usecases aus Ihren Unternehmen spielen die Lotsen von Digital Mindset Kommunikationsfälle mit Ihnen durch und zeigen so\, wie „fluffig“ und schnell Zusammenarbeit funktioniert. Mit diesem Workshop machen wir Sie fit die (digitale) Zusammenarbeit von morgen.
URL:https://mvfp-akademie.de/event/kollaboration-erleben/
LOCATION:Die Durchführung erfolgt DIGITAL!
CATEGORIES:Anzeigen,Fachübergreifend,IT und Digital,Marketing,Redaktion,Vertrieb
ATTACH;FMTTYPE=image/png:https://mvfp-akademie.de/wp-content/uploads/2020/10/social-media-3846597_1280.png
END:VEVENT
END:VCALENDAR