BEGIN:VCALENDAR
VERSION:2.0
PRODID:-//MVFP Akademie - ECPv6.15.12.2//NONSGML v1.0//EN
CALSCALE:GREGORIAN
METHOD:PUBLISH
X-ORIGINAL-URL:https://mvfp-akademie.de
X-WR-CALDESC:Veranstaltungen für MVFP Akademie
REFRESH-INTERVAL;VALUE=DURATION:PT1H
X-Robots-Tag:noindex
X-PUBLISHED-TTL:PT1H
BEGIN:VTIMEZONE
TZID:Europe/Berlin
BEGIN:DAYLIGHT
TZOFFSETFROM:+0100
TZOFFSETTO:+0200
TZNAME:CEST
DTSTART:20190331T010000
END:DAYLIGHT
BEGIN:STANDARD
TZOFFSETFROM:+0200
TZOFFSETTO:+0100
TZNAME:CET
DTSTART:20191027T010000
END:STANDARD
BEGIN:DAYLIGHT
TZOFFSETFROM:+0100
TZOFFSETTO:+0200
TZNAME:CEST
DTSTART:20200329T010000
END:DAYLIGHT
BEGIN:STANDARD
TZOFFSETFROM:+0200
TZOFFSETTO:+0100
TZNAME:CET
DTSTART:20201025T010000
END:STANDARD
BEGIN:DAYLIGHT
TZOFFSETFROM:+0100
TZOFFSETTO:+0200
TZNAME:CEST
DTSTART:20210328T010000
END:DAYLIGHT
BEGIN:STANDARD
TZOFFSETFROM:+0200
TZOFFSETTO:+0100
TZNAME:CET
DTSTART:20211031T010000
END:STANDARD
END:VTIMEZONE
BEGIN:VEVENT
DTSTART;TZID=Europe/Berlin:20200623T093000
DTEND;TZID=Europe/Berlin:20200623T170000
DTSTAMP:20260423T105947
CREATED:20160405T095135Z
LAST-MODIFIED:20200407T142725Z
UID:12259-1592904600-1592931600@mvfp-akademie.de
SUMMARY:Kreatives Dialogmarketing: Abonnentengewinnung durch innovative Ansprache
DESCRIPTION:>> Termin abgesagt << \n\n\nIm digitalen Zeitalter sind die Menschen mitteilungsbedürftiger als jemals zuvor. Sie wollen mitreden und mitbestimmen. Der Dialog nimmt eine entscheidende Rolle ein und Dialogmarketing wird zu einem der wichtigsten Instrumente im Marketing-Mix. Dazu stehen uns heute viel mehr Möglichkeiten zur Verfügung als noch vor wenigen Jahren. Darüber hinaus benötigt Dialogmarketing mehr denn je eine tragende kreative Idee\, um wahrgenommen zu werden. Wie spricht man potenzielle Abonnenten an und wie macht man erfolgreich auf sein Produkt aufmerksam? Dies erfahren Sie in unserem Seminar.
URL:https://mvfp-akademie.de/event/kreatives-dialogmarketing-abonnentengewinnung-durch-innovative-ansprache/
LOCATION:Design Offices Stuttgart Mitte\, Lautenschlagerstraße 23a\, Stuttgart\, 70173
CATEGORIES:Fachbereiche,Fachübergreifend,Marketing,Vertrieb,WebSeminare
ATTACH;FMTTYPE=image/jpeg:https://mvfp-akademie.de/wp-content/uploads/2016/04/UM62EOZSRC-scaled.jpg
END:VEVENT
END:VCALENDAR