BEGIN:VCALENDAR
VERSION:2.0
PRODID:-//MVFP Akademie - ECPv6.15.12.2//NONSGML v1.0//EN
CALSCALE:GREGORIAN
METHOD:PUBLISH
X-ORIGINAL-URL:https://mvfp-akademie.de
X-WR-CALDESC:Veranstaltungen für MVFP Akademie
REFRESH-INTERVAL;VALUE=DURATION:PT1H
X-Robots-Tag:noindex
X-PUBLISHED-TTL:PT1H
BEGIN:VTIMEZONE
TZID:Europe/Berlin
BEGIN:DAYLIGHT
TZOFFSETFROM:+0100
TZOFFSETTO:+0200
TZNAME:CEST
DTSTART:20160327T010000
END:DAYLIGHT
BEGIN:STANDARD
TZOFFSETFROM:+0200
TZOFFSETTO:+0100
TZNAME:CET
DTSTART:20161030T010000
END:STANDARD
BEGIN:DAYLIGHT
TZOFFSETFROM:+0100
TZOFFSETTO:+0200
TZNAME:CEST
DTSTART:20170326T010000
END:DAYLIGHT
BEGIN:STANDARD
TZOFFSETFROM:+0200
TZOFFSETTO:+0100
TZNAME:CET
DTSTART:20171029T010000
END:STANDARD
BEGIN:DAYLIGHT
TZOFFSETFROM:+0100
TZOFFSETTO:+0200
TZNAME:CEST
DTSTART:20180325T010000
END:DAYLIGHT
BEGIN:STANDARD
TZOFFSETFROM:+0200
TZOFFSETTO:+0100
TZNAME:CET
DTSTART:20181028T010000
END:STANDARD
END:VTIMEZONE
BEGIN:VEVENT
DTSTART;TZID=Europe/Berlin:20170706T090000
DTEND;TZID=Europe/Berlin:20170706T183000
DTSTAMP:20260421T111128
CREATED:20170601T133407Z
LAST-MODIFIED:20170616T125428Z
UID:18283-1499331600-1499365800@mvfp-akademie.de
SUMMARY:Media meets StartUps Konferenz
DESCRIPTION:Der Veranstalter und Vertragspartner dieses Seminars ist die Akademie der Deutschen Medien gGmbH\n \n\nVon der strategischen Partnerschaft zur Finanzierungskooperation\nWie Medienhäuser und StartUps erfolgreich miteinander kooperieren\n\n#startupkonf\n\nDas Event\nBei Bastei Lübbes Wandel vom Verlag zum Medienhaus spielen StartUp-Kooperationen und -Investments eine tragende Rolle. Mit oolipo geht das Medienhaus sogar mit einem eigenen StartUp in den Markt. Springer Medizin setzt auf das StartUp Cat Production\, das Visualisierungen und Animationen für die Medizin entwickelt – von Print bis Virtual Reality. Und das Red Bull Media House arbeitet mit dem StartUp Bohème zusammen\, das Café-Gästen Paid Content per Beacon-Technologie auf dem Smartphone anbietet. \nOb B2B oder B2C – Immer mehr Medienhäuser setzen auf Kooperationen mit oder Investitionen in StartUps. Die Vorteile liegen auf der Hand: StartUps bringen neue Technologien\, innovative Produkte und digitale Geschäftsmodelle\, also disruptives Business ins eigene Haus. Und nicht nur das: Die Innovationsdynamik und Agilität der jungen Unternehmen können die Neuausrichtung und den Kulturwandel der Verlage zusätzlich beschleunigen. Die Kooperationsmodelle\, die eine Zusammenarbeit zwischen StartUps und Verlagen möglich machen\, sind vielfältig: Sie reichen vom Ideenaustausch über Forschungs- & Entwicklungskooperation bis hin zum Aufbau von Corporate StartUps. \nBei der »Media meets StartUps-Konferenz« stehen daher folgende Fragen im Fokus: \n\nWelche Kooperationsmodelle sind für welche Medienhäuser am besten geeignet – und tatsächlich gewinnbringend?\nCulture Clash: Was sind die Erfolgsfaktoren und Stolpersteine bei der Zusammenarbeit zwischen jungen und traditionellen Medienunternehmen?\nWelche Produktideen\, digitalen Geschäftsmodelle und agile Methoden-Sets der StartUp-Szene sollten Fach- und Publikumsverlage unbedingt kennen?
URL:https://mvfp-akademie.de/event/media-meets-startups-konferenz/
LOCATION:Literaturhaus München\, Salvatorplatz 1\, München\,  80333 
CATEGORIES:Fachbereiche,Fachübergreifend,Konferenzen
ATTACH;FMTTYPE=image/jpeg:https://mvfp-akademie.de/wp-content/uploads/2017/05/arrows-1412061-e1496238727476.jpg
END:VEVENT
END:VCALENDAR