BEGIN:VCALENDAR
VERSION:2.0
PRODID:-//MVFP Akademie - ECPv6.15.12.2//NONSGML v1.0//EN
CALSCALE:GREGORIAN
METHOD:PUBLISH
X-ORIGINAL-URL:https://mvfp-akademie.de
X-WR-CALDESC:Veranstaltungen für MVFP Akademie
REFRESH-INTERVAL;VALUE=DURATION:PT1H
X-Robots-Tag:noindex
X-PUBLISHED-TTL:PT1H
BEGIN:VTIMEZONE
TZID:Europe/Berlin
BEGIN:DAYLIGHT
TZOFFSETFROM:+0100
TZOFFSETTO:+0200
TZNAME:CEST
DTSTART:20220327T010000
END:DAYLIGHT
BEGIN:STANDARD
TZOFFSETFROM:+0200
TZOFFSETTO:+0100
TZNAME:CET
DTSTART:20221030T010000
END:STANDARD
BEGIN:DAYLIGHT
TZOFFSETFROM:+0100
TZOFFSETTO:+0200
TZNAME:CEST
DTSTART:20230326T010000
END:DAYLIGHT
BEGIN:STANDARD
TZOFFSETFROM:+0200
TZOFFSETTO:+0100
TZNAME:CET
DTSTART:20231029T010000
END:STANDARD
BEGIN:DAYLIGHT
TZOFFSETFROM:+0100
TZOFFSETTO:+0200
TZNAME:CEST
DTSTART:20240331T010000
END:DAYLIGHT
BEGIN:STANDARD
TZOFFSETFROM:+0200
TZOFFSETTO:+0100
TZNAME:CET
DTSTART:20241027T010000
END:STANDARD
END:VTIMEZONE
BEGIN:VEVENT
DTSTART;TZID=Europe/Berlin:20230508T093000
DTEND;TZID=Europe/Berlin:20230508T163000
DTSTAMP:20260420T114932
CREATED:20230209T161146Z
LAST-MODIFIED:20230228T103708Z
UID:41201-1683538200-1683563400@mvfp-akademie.de
SUMMARY:Nachhaltigkeit erfolgreich umsetzen – Von der Nachhaltigkeitsberichterstattung zur nachhaltigen Unternehmensführung
DESCRIPTION:Nachhaltigkeit wird auch für Medienunternehmen und Verlagshäuser ein immer wichtigeres Kriterium\, wenn es um langfristigen wirtschaftlichen Erfolg geht. Die Transformation zu einer nachhaltigen Wirtschaft adressiert dabei nicht nur die Erwartungen von Kunden\, Stakeholdern und Gesellschaft\, auch Politik und Regulatorik fordern zunehmend entschiedenes Handeln für eine nachhaltige Wirtschaft und Zukunft. \nIn unserem WebSeminar erfahren Sie\, was die Pflicht zur Nachhaltigkeitsberichterstattung (CSRD) für Ihr Medienhaus bedeuten wird und wie Sie diese schon heute durch gezieltes Nachhaltigkeitsmanagement vorbereiten können. Unsere Expertinnen und Experten geben Ihnen Einblicke in die Berechnung des Corporate Carbon Footprints und von unseren Best Cases lernen Sie\, wie Nachhaltigkeit zum wirtschaftlichen Erfolgsfaktor werden kann.
URL:https://mvfp-akademie.de/event/nachhaltigkeit-erfolgreich-umsetzen-von-der-nachhaltigkeitsberichterstattung-zum-wirtschaftlichen-erfolgsfaktor/
LOCATION:Die Durchführung erfolgt DIGITAL!
CATEGORIES:Fachübergreifend
ATTACH;FMTTYPE=image/jpeg:https://mvfp-akademie.de/wp-content/uploads/2023/02/Copy-of-Header-Nachhaltigkeit-High-Quality-4.jpg
END:VEVENT
END:VCALENDAR