BEGIN:VCALENDAR
VERSION:2.0
PRODID:-//MVFP Akademie - ECPv6.15.12.2//NONSGML v1.0//EN
CALSCALE:GREGORIAN
METHOD:PUBLISH
X-ORIGINAL-URL:https://mvfp-akademie.de
X-WR-CALDESC:Veranstaltungen für MVFP Akademie
REFRESH-INTERVAL;VALUE=DURATION:PT1H
X-Robots-Tag:noindex
X-PUBLISHED-TTL:PT1H
BEGIN:VTIMEZONE
TZID:Europe/Berlin
BEGIN:DAYLIGHT
TZOFFSETFROM:+0100
TZOFFSETTO:+0200
TZNAME:CEST
DTSTART:20160327T010000
END:DAYLIGHT
BEGIN:STANDARD
TZOFFSETFROM:+0200
TZOFFSETTO:+0100
TZNAME:CET
DTSTART:20161030T010000
END:STANDARD
BEGIN:DAYLIGHT
TZOFFSETFROM:+0100
TZOFFSETTO:+0200
TZNAME:CEST
DTSTART:20170326T010000
END:DAYLIGHT
BEGIN:STANDARD
TZOFFSETFROM:+0200
TZOFFSETTO:+0100
TZNAME:CET
DTSTART:20171029T010000
END:STANDARD
BEGIN:DAYLIGHT
TZOFFSETFROM:+0100
TZOFFSETTO:+0200
TZNAME:CEST
DTSTART:20180325T010000
END:DAYLIGHT
BEGIN:STANDARD
TZOFFSETFROM:+0200
TZOFFSETTO:+0100
TZNAME:CET
DTSTART:20181028T010000
END:STANDARD
END:VTIMEZONE
BEGIN:VEVENT
DTSTART;TZID=Europe/Berlin:20171115T093000
DTEND;TZID=Europe/Berlin:20171115T170000
DTSTAMP:20260421T111519
CREATED:20160812T154430Z
LAST-MODIFIED:20171017T130234Z
UID:15275-1510738200-1510765200@mvfp-akademie.de
SUMMARY:Wie Persona-Konzepte in Verlagen Reichweite und Erlöse steigern – Methoden\, Tools und Beispiele
DESCRIPTION:Kennen Sie Ihre Zielgruppe(n)? Die allermeisten Verlage nutzen bislang lediglich sehr fragmentarische Zielgruppenbeschreibungen. Es geht schließlich immer um Zeitschriftenleser\, richtig? Nein\, falsch! Es geht immer um mehr oder minder feinfragmentierte Zielgruppen\, deren unterschiedliche Sub-Zielgruppen sehr unterschiedlich sein können. In ihren besonderen Interessen\, ihren Rezeptionsgewohnheiten und ihrer bevorzugten Ansprache. Schlimmstenfalls werden wesentliche Teile der Zielgruppe mit klassischen Medienprodukten (Zeitschriften) überhaupt nicht mehr erreicht. Klassische Marktforschung wiederum ist sehr teuer und liefert zwar akkurate Daten und Fakten\, lässt sich jedoch nur sehr schwer im täglichen redaktionellen Workflow wirksam machen. Buyer Personas sind deshalb die Methode der Wahl\, wenn Sie als Verlag Ihre Zielgruppen nicht nur besser beschreiben\, sondern v.a. besser erreichen und durchdringen wollen.
URL:https://mvfp-akademie.de/event/persona-konzepte-in-verlagen/
LOCATION:MVFP – Medienverband der freien Presse e.V.\, Markgrafenstraße 15\, Berlin\, 10969
CATEGORIES:Marketing,WebSeminare
ATTACH;FMTTYPE=image/jpeg:https://mvfp-akademie.de/wp-content/uploads/2016/03/social-media-550766-scaled.jpg
END:VEVENT
END:VCALENDAR