BEGIN:VCALENDAR
VERSION:2.0
PRODID:-//MVFP Akademie - ECPv6.15.12.2//NONSGML v1.0//EN
CALSCALE:GREGORIAN
METHOD:PUBLISH
X-ORIGINAL-URL:https://mvfp-akademie.de
X-WR-CALDESC:Veranstaltungen für MVFP Akademie
REFRESH-INTERVAL;VALUE=DURATION:PT1H
X-Robots-Tag:noindex
X-PUBLISHED-TTL:PT1H
BEGIN:VTIMEZONE
TZID:Europe/Berlin
BEGIN:DAYLIGHT
TZOFFSETFROM:+0100
TZOFFSETTO:+0200
TZNAME:CEST
DTSTART:20160327T010000
END:DAYLIGHT
BEGIN:STANDARD
TZOFFSETFROM:+0200
TZOFFSETTO:+0100
TZNAME:CET
DTSTART:20161030T010000
END:STANDARD
BEGIN:DAYLIGHT
TZOFFSETFROM:+0100
TZOFFSETTO:+0200
TZNAME:CEST
DTSTART:20170326T010000
END:DAYLIGHT
BEGIN:STANDARD
TZOFFSETFROM:+0200
TZOFFSETTO:+0100
TZNAME:CET
DTSTART:20171029T010000
END:STANDARD
BEGIN:DAYLIGHT
TZOFFSETFROM:+0100
TZOFFSETTO:+0200
TZNAME:CEST
DTSTART:20180325T010000
END:DAYLIGHT
BEGIN:STANDARD
TZOFFSETFROM:+0200
TZOFFSETTO:+0100
TZNAME:CET
DTSTART:20181028T010000
END:STANDARD
END:VTIMEZONE
BEGIN:VEVENT
DTSTART;TZID=Europe/Berlin:20170619T100000
DTEND;TZID=Europe/Berlin:20170623T160000
DTSTAMP:20260423T105829
CREATED:20170531T075204Z
LAST-MODIFIED:20170616T125034Z
UID:18069-1497866400-1498233600@mvfp-akademie.de
SUMMARY:Projektmanager Digitale Medien – Ein Intensivkurs mit Zertifikat
DESCRIPTION:Der Veranstalter und Vertragspartner dieses Seminars ist die Akademie der Deutschen Medien gGmbH\n \n\nDas Projektmanagement von digitalen Medien und Content-Angeboten erfordert spezielle Kenntnisse – von der Strategieentwicklung über die Konzeption und technische Umsetzung bis zur Vermarktung. Denn um einen reibungslosen Projektablauf zu gewährleisten\, müssen Mitarbeiter über grundlegendes Know-how verfügen\, bisherige Arbeitsprozesse verändern und Sicherheit im Umgang mit digitalen Projekten erlangen. \nIm Zertifikatskurs erfahren Sie …\n\nwelche Komponenten und Erfolgsfaktoren das Projektmanagement von digitalen Medien umfasst\nwie Sie digitale Medien systematisch konzipieren\, entwickeln und vermarkten\nwelche technischen Vorgänge und Hintergründe zu beachten sind\nwelche Erfolgsfaktoren bei der Projektsteuerung kritisch sind\n\nZiel des Zertifikatskurses\nDer fünftägige Intensivkurs vermittelt die Grundlagen des Projektmanagements von digitalen Medien\, von der Geschäftsmodellentwicklung über die Konzeption und Vermarktung bis hin zur technischen Umsetzung und Methoden des agilen Projektmanagements. Die Teilnehmer erfahren\, aus welchen Bausteinen eine professionelle Produktentwicklung und -vermarktung besteht und welche Erfolgsfaktoren bei der Projektsteuerung zu beachten sind.
URL:https://mvfp-akademie.de/event/projektmanager-digitale-medien-ein-intensivkurs-mit-zertifikat/
LOCATION:Tagungsort in München\, Erster Tag: 10 – 17 Uhr\, München\, Letzter Tag: 9 – 16 Uhr
CATEGORIES:Fachbereiche,Fachübergreifend,WebSeminare
ATTACH;FMTTYPE=image/png:https://mvfp-akademie.de/wp-content/uploads/2017/04/network-782707_960_720.png
END:VEVENT
END:VCALENDAR