BEGIN:VCALENDAR
VERSION:2.0
PRODID:-//MVFP Akademie - ECPv6.15.12.2//NONSGML v1.0//EN
CALSCALE:GREGORIAN
METHOD:PUBLISH
X-ORIGINAL-URL:https://mvfp-akademie.de
X-WR-CALDESC:Veranstaltungen für MVFP Akademie
REFRESH-INTERVAL;VALUE=DURATION:PT1H
X-Robots-Tag:noindex
X-PUBLISHED-TTL:PT1H
BEGIN:VTIMEZONE
TZID:Europe/Berlin
BEGIN:DAYLIGHT
TZOFFSETFROM:+0100
TZOFFSETTO:+0200
TZNAME:CEST
DTSTART:20150329T010000
END:DAYLIGHT
BEGIN:STANDARD
TZOFFSETFROM:+0200
TZOFFSETTO:+0100
TZNAME:CET
DTSTART:20151025T010000
END:STANDARD
BEGIN:DAYLIGHT
TZOFFSETFROM:+0100
TZOFFSETTO:+0200
TZNAME:CEST
DTSTART:20160327T010000
END:DAYLIGHT
BEGIN:STANDARD
TZOFFSETFROM:+0200
TZOFFSETTO:+0100
TZNAME:CET
DTSTART:20161030T010000
END:STANDARD
BEGIN:DAYLIGHT
TZOFFSETFROM:+0100
TZOFFSETTO:+0200
TZNAME:CEST
DTSTART:20170326T010000
END:DAYLIGHT
BEGIN:STANDARD
TZOFFSETFROM:+0200
TZOFFSETTO:+0100
TZNAME:CET
DTSTART:20171029T010000
END:STANDARD
END:VTIMEZONE
BEGIN:VEVENT
DTSTART;TZID=Europe/Berlin:20160222T100000
DTEND;TZID=Europe/Berlin:20160224T160000
DTSTAMP:20260422T121324
CREATED:20151028T132721Z
LAST-MODIFIED:20160302T091603Z
UID:8747-1456135200-1456329600@mvfp-akademie.de
SUMMARY:Redaktionen effizient organisieren und strategisch aufstellen
DESCRIPTION:Die Mediennutzungsgewohnheiten haben sich dramatisch verändert\, und die Zahl der Channels\, die bespielt werden müssen\, hat sich erhöht. Bei allem fordert der Wettbewerb um Leser- und Werbemärkte eine gleichbleibend hohe Qualität aller redaktionellen Inhalte. \nDieses Ziel kann nur mit Methoden und Tools erreicht werden\, die dabei unterstützen\, alle redaktionellen Prozesse effizient zu organisieren\, damit Zeit bleibt für ein zielgruppenadäquates Themenmanagement zur strategischen Führung der Marke.
URL:https://mvfp-akademie.de/event/redaktionen-effizient-organisieren-und-strategisch-aufstellen/
LOCATION:RAMADA Hotel Kassel City Centre\, Baumbachstraße 2\, Kassel\, Hessen\, 34119 \, Deutschland
CATEGORIES:Redaktion,WebSeminare
ATTACH;FMTTYPE=image/jpeg:https://mvfp-akademie.de/wp-content/uploads/2015/10/Kassel_Fotolia_71284438_XL-scaled.jpg
END:VEVENT
END:VCALENDAR