BEGIN:VCALENDAR
VERSION:2.0
PRODID:-//MVFP Akademie - ECPv6.15.12.2//NONSGML v1.0//EN
CALSCALE:GREGORIAN
METHOD:PUBLISH
X-ORIGINAL-URL:https://mvfp-akademie.de
X-WR-CALDESC:Veranstaltungen für MVFP Akademie
REFRESH-INTERVAL;VALUE=DURATION:PT1H
X-Robots-Tag:noindex
X-PUBLISHED-TTL:PT1H
BEGIN:VTIMEZONE
TZID:Europe/Berlin
BEGIN:DAYLIGHT
TZOFFSETFROM:+0100
TZOFFSETTO:+0200
TZNAME:CEST
DTSTART:20250330T010000
END:DAYLIGHT
BEGIN:STANDARD
TZOFFSETFROM:+0200
TZOFFSETTO:+0100
TZNAME:CET
DTSTART:20251026T010000
END:STANDARD
BEGIN:DAYLIGHT
TZOFFSETFROM:+0100
TZOFFSETTO:+0200
TZNAME:CEST
DTSTART:20260329T010000
END:DAYLIGHT
BEGIN:STANDARD
TZOFFSETFROM:+0200
TZOFFSETTO:+0100
TZNAME:CET
DTSTART:20261025T010000
END:STANDARD
BEGIN:DAYLIGHT
TZOFFSETFROM:+0100
TZOFFSETTO:+0200
TZNAME:CEST
DTSTART:20270328T010000
END:DAYLIGHT
BEGIN:STANDARD
TZOFFSETFROM:+0200
TZOFFSETTO:+0100
TZNAME:CET
DTSTART:20271031T010000
END:STANDARD
END:VTIMEZONE
BEGIN:VEVENT
DTSTART;TZID=Europe/Berlin:20260205T093000
DTEND;TZID=Europe/Berlin:20260205T123000
DTSTAMP:20260424T053553
CREATED:20251215T143237Z
LAST-MODIFIED:20260205T121135Z
UID:55777-1770283800-1770294600@mvfp-akademie.de
SUMMARY:Schneller mit KI: 15 Sofort-Hacks für Führungskräfte in den Medien
DESCRIPTION:Warum dieses WebSeminar zum Jahresstart Pflicht ist\nKI ist da. Aber zwischen Tool-Chaos und endlosen Use Cases verlieren die meisten den Überblick und damit Zeit sowie Geld. Dieses WebSeminar gibt Ihnen\, was Sie jetzt brauchen: 15 erprobte KI-Hacks\, die in Ihrem Medienhaus sofort funktionieren.\nKein Buzzword-Bingo. Keine Theorie. Nur praxiserprobte Lösungen von einem Unternehmer aus der Branche.\nJeder Hack ist sofort anwendbar\, spart Zeit und schafft Freiräume. Die genannten Hacks sind exemplarisch\, aus Gründen der Aktualität passen wir die Inhalte laufend an und ergänzen sie um die neuesten Entwicklungen. \nMehr als nur Hacks: Blick unter die Motorhaube\nSie bekommen nicht nur das „Was“\, sondern auch das „Wie“. Wir zeigen die technischen Systeme verständlich und praxisnah. Sie verstehen\, wie KI funktioniert\, wo sie Grenzen hat und wie Sie sie strategisch einsetzen. \nDas Besondere: 3 Live-Umsetzungs-Sessions\nNach jeweils 5 Hacks gibt es eine 20-30-minutige Praxis-Session\, in der Sie\nkonkrete KI-Anwendungen für Ihr Unternehmen entwickeln. Die genannten Sessions\nsind exemplarisch\, wir passen sie an Ihre aktuellen Herausforderungen an:\n– SEO-Analyse für Ihre Verlags-Websites – Sie sehen sofort\, wo Potenzial liegt.\n– Strategischer Sparrings-Partner – Entwickeln Sie einen KI-Assistenten für strategische Fragen.\n– Individuelle Praxis-Cases – Bringen Sie Ihre Herausforderungen mit\, wir lösen sie gemeinsam.
URL:https://mvfp-akademie.de/event/schneller-mit-ki-15-sofort-hacks-fuer-fuehrungskraefte-in-den-medien/
LOCATION:Die Durchführung erfolgt DIGITAL!
CATEGORIES:Fachübergreifend,IT und Digital,KI,WebSeminare
ATTACH;FMTTYPE=image/png:https://mvfp-akademie.de/wp-content/uploads/2025/12/Header-VA-KI-Hacks.png
END:VEVENT
END:VCALENDAR