BEGIN:VCALENDAR
VERSION:2.0
PRODID:-//MVFP Akademie - ECPv6.15.12.2//NONSGML v1.0//EN
CALSCALE:GREGORIAN
METHOD:PUBLISH
X-ORIGINAL-URL:https://mvfp-akademie.de
X-WR-CALDESC:Veranstaltungen für MVFP Akademie
REFRESH-INTERVAL;VALUE=DURATION:PT1H
X-Robots-Tag:noindex
X-PUBLISHED-TTL:PT1H
BEGIN:VTIMEZONE
TZID:Europe/Berlin
BEGIN:DAYLIGHT
TZOFFSETFROM:+0100
TZOFFSETTO:+0200
TZNAME:CEST
DTSTART:20250330T010000
END:DAYLIGHT
BEGIN:STANDARD
TZOFFSETFROM:+0200
TZOFFSETTO:+0100
TZNAME:CET
DTSTART:20251026T010000
END:STANDARD
BEGIN:DAYLIGHT
TZOFFSETFROM:+0100
TZOFFSETTO:+0200
TZNAME:CEST
DTSTART:20260329T010000
END:DAYLIGHT
BEGIN:STANDARD
TZOFFSETFROM:+0200
TZOFFSETTO:+0100
TZNAME:CET
DTSTART:20261025T010000
END:STANDARD
BEGIN:DAYLIGHT
TZOFFSETFROM:+0100
TZOFFSETTO:+0200
TZNAME:CEST
DTSTART:20270328T010000
END:DAYLIGHT
BEGIN:STANDARD
TZOFFSETFROM:+0200
TZOFFSETTO:+0100
TZNAME:CET
DTSTART:20271031T010000
END:STANDARD
END:VTIMEZONE
BEGIN:VEVENT
DTSTART;TZID=Europe/Berlin:20260507T100000
DTEND;TZID=Europe/Berlin:20260507T110000
DTSTAMP:20260420T134342
CREATED:20260420T074400Z
LAST-MODIFIED:20260420T091546Z
UID:57692-1778148000-1778151600@mvfp-akademie.de
SUMMARY:Umsetzung Widerrufsbutton für Online-Verträge
DESCRIPTION:Ab dem 19. Juni 2026 müssen Unternehmen bei B2C-Onlineverträgen eine elektronische Widerrufsfunktion bereitstellen\, wenn ein gesetzliches Widerrufsrecht besteht. In der WebSession zeigen BDZV und MVFP\, was die neue Pflicht konkret bedeutet\, wie der Widerrufsbutton ausgestaltet sein muss und welche rechtlichen\, technischen und organisatorischen Schritte jetzt anstehen. \nDie Teilnahme an dieser WebSession ist den Mitgliedern von MVFP und BDZV vorbehalten und für diese kostenlos. Die Anmeldung erfolgt über untenstehendes Formular.
URL:https://mvfp-akademie.de/event/umsetzung-widerrufsbutton-fuer-online-vertraege/
LOCATION:Anmeldung über das untenstehende Formular\, Die Durchführung erfolgt DIGITAL!
CATEGORIES:Fachübergreifend,WebSessions
ATTACH;FMTTYPE=image/jpeg:https://mvfp-akademie.de/wp-content/uploads/2026/04/Header-Wiederrufsrecht-High-Quality.jpg
END:VEVENT
END:VCALENDAR