BEGIN:VCALENDAR
VERSION:2.0
PRODID:-//MVFP Akademie - ECPv6.15.12.2//NONSGML v1.0//EN
CALSCALE:GREGORIAN
METHOD:PUBLISH
X-ORIGINAL-URL:https://mvfp-akademie.de
X-WR-CALDESC:Veranstaltungen für MVFP Akademie
REFRESH-INTERVAL;VALUE=DURATION:PT1H
X-Robots-Tag:noindex
X-PUBLISHED-TTL:PT1H
BEGIN:VTIMEZONE
TZID:Europe/Berlin
BEGIN:DAYLIGHT
TZOFFSETFROM:+0100
TZOFFSETTO:+0200
TZNAME:CEST
DTSTART:20160327T010000
END:DAYLIGHT
BEGIN:STANDARD
TZOFFSETFROM:+0200
TZOFFSETTO:+0100
TZNAME:CET
DTSTART:20161030T010000
END:STANDARD
BEGIN:DAYLIGHT
TZOFFSETFROM:+0100
TZOFFSETTO:+0200
TZNAME:CEST
DTSTART:20170326T010000
END:DAYLIGHT
BEGIN:STANDARD
TZOFFSETFROM:+0200
TZOFFSETTO:+0100
TZNAME:CET
DTSTART:20171029T010000
END:STANDARD
BEGIN:DAYLIGHT
TZOFFSETFROM:+0100
TZOFFSETTO:+0200
TZNAME:CEST
DTSTART:20180325T010000
END:DAYLIGHT
BEGIN:STANDARD
TZOFFSETFROM:+0200
TZOFFSETTO:+0100
TZNAME:CET
DTSTART:20181028T010000
END:STANDARD
END:VTIMEZONE
BEGIN:VEVENT
DTSTART;TZID=Europe/Berlin:20170725T100000
DTEND;TZID=Europe/Berlin:20170727T160000
DTSTAMP:20260421T111237
CREATED:20170616T084206Z
LAST-MODIFIED:20170616T125505Z
UID:18273-1500976800-1501171200@mvfp-akademie.de
SUMMARY:Usability Manager – Ein Intensivkurs mit Zertifikat
DESCRIPTION:Der Veranstalter und Vertragspartner dieses Seminars ist die Akademie der Deutschen Medien gGmbH\n \n\nGute Usability auf Websites führt zu positiver User Experience und macht aus Interessenten Nutzer und aus Nutzern Stammkunden. Es gilt daher alle relevanten Prozesse – wie z.B. Suche\, Bestellvorgang und Checkout – optimal auf die User auszurichten. \nWas gehört jedoch für die eigene Zielgruppe zu einer benutzerfreundlichen Website? Wie lassen sich mit den gewonnenen Erkenntnissen höhere Conversion-Rates realisieren? \nIm Zertifikatskurs …\n\nlernen Sie Tools und Techniken kennen\, um die Usability Ihres Online-Angebots zu testen und zu erhöhen\nerlangen Sie ein grundlegendes Verständnis für gute Nutzerführung\nerfahren Sie\, wie erfolgreiche Shops und Websites strukturiert sein müssen\, um die Conversion zu erhöhen\nlernen Sie Methoden kennen\, um Usability und User Experience zu messen\n\nZiel des Zertifikatskurses\nDas Seminar vermittelt den Teilnehmern\, wie sie Website und Shop erfolgreich auf ihre Nutzer und Kunden zuschneiden. Sie erhalten anhand praktischer Übungen\, Testmethoden und Tools das nötige Rüstzeug\, um Usability\, UX und Conversion zu optimieren.
URL:https://mvfp-akademie.de/event/usability-manager-ein-intensivkurs-mit-zertifikat/
LOCATION:Tagungsort in München\, Erster Tag: 10 – 17 Uhr\, München\, Letzter Tag: 9 – 16 Uhr
CATEGORIES:Fachbereiche,Fachübergreifend,IT und Digital,WebSeminare
ATTACH;FMTTYPE=image/jpeg:https://mvfp-akademie.de/wp-content/uploads/2016/01/ipad-820272_1920.jpg
END:VEVENT
END:VCALENDAR