BEGIN:VCALENDAR
VERSION:2.0
PRODID:-//MVFP Akademie - ECPv6.15.12.2//NONSGML v1.0//EN
CALSCALE:GREGORIAN
METHOD:PUBLISH
X-ORIGINAL-URL:https://mvfp-akademie.de
X-WR-CALDESC:Veranstaltungen für MVFP Akademie
REFRESH-INTERVAL;VALUE=DURATION:PT1H
X-Robots-Tag:noindex
X-PUBLISHED-TTL:PT1H
BEGIN:VTIMEZONE
TZID:Europe/Berlin
BEGIN:DAYLIGHT
TZOFFSETFROM:+0100
TZOFFSETTO:+0200
TZNAME:CEST
DTSTART:20140330T010000
END:DAYLIGHT
BEGIN:STANDARD
TZOFFSETFROM:+0200
TZOFFSETTO:+0100
TZNAME:CET
DTSTART:20141026T010000
END:STANDARD
BEGIN:DAYLIGHT
TZOFFSETFROM:+0100
TZOFFSETTO:+0200
TZNAME:CEST
DTSTART:20150329T010000
END:DAYLIGHT
BEGIN:STANDARD
TZOFFSETFROM:+0200
TZOFFSETTO:+0100
TZNAME:CET
DTSTART:20151025T010000
END:STANDARD
BEGIN:DAYLIGHT
TZOFFSETFROM:+0100
TZOFFSETTO:+0200
TZNAME:CEST
DTSTART:20160327T010000
END:DAYLIGHT
BEGIN:STANDARD
TZOFFSETFROM:+0200
TZOFFSETTO:+0100
TZNAME:CET
DTSTART:20161030T010000
END:STANDARD
END:VTIMEZONE
BEGIN:VEVENT
DTSTART;VALUE=DATE:20150927
DTEND;VALUE=DATE:20151003
DTSTAMP:20260423T105822
CREATED:20150903T072544Z
LAST-MODIFIED:20160624T091626Z
UID:3023-1443312000-1443830399@mvfp-akademie.de
SUMMARY:VDZ Digital Publishers' USA Tour 2015
DESCRIPTION:Would you like to meet with executives at the Washington Post\, Atlantic Media\, Hanley Wood and Medium\, discuss the latest developments of interest to publishers right at Apple and Twitter and hear the latest consumer trends straight from the preeminent Pew Research Institute? Then join us at the VDZ Digital Publishers Tour from September 27th to October 2nd to Washington DC and San Francisco/Silicon Valley\, where you can enjoy the above confirmed meetings\, with many more invigorating meetings to be announced! \nThe VDZ Digital Publishers’ USA Tour is designed for leaders in the rapidly changing media industry. It aims to show you new approaches to media businesses\, identify trends that will impact your industry\, and foster discussion with some of the most innovative thought leaders in media. The tour is a fantastic opportunity to step away from your daily responsibilities to interact and connect with other leaders who are developing new ideas and dealing with similar strategic issues. You will be inspired and get concrete ideas for the way forward! \nThe tour will start in Washington D.C.\, the U.S. capital which is also home to innovative U.S. media companies such as the Washington Post\, Gannett and National Geographic. These media companies are able to tap into an area rich with technology talent and hot tech and media startups. In the Washington\, DC area we will meet with major magazine and newspaper media brands as well as startups involved with media and research institutes. \nWe then fly across the U.S. to San Francisco and Silicon Valley to experience the largest center of innovation and technology in the world. It is the home of such tech giants as Apple\, Twitter\, Google and Facebook but also many startups. We will engage with digital natives who are developing new products\, services\, business models\, technologies and tools that are impacting and changing media.
URL:https://mvfp-akademie.de/event/vdz-digital-publishers-usa-tour-2015/
LOCATION:Washington D.C. und San Francisco/Silicon Valley\, Washington D.C. und San Francisco/Silicon Valley\, Vereinigte Staaten
CATEGORIES:Internationales
ATTACH;FMTTYPE=image/jpeg:https://mvfp-akademie.de/wp-content/uploads/2015/09/Fotolia_59741022_L_¸-MasterLu-e1504187332553.jpg
END:VEVENT
END:VCALENDAR