BEGIN:VCALENDAR
VERSION:2.0
PRODID:-//MVFP Akademie - ECPv6.15.12.2//NONSGML v1.0//EN
CALSCALE:GREGORIAN
METHOD:PUBLISH
X-ORIGINAL-URL:https://mvfp-akademie.de
X-WR-CALDESC:Veranstaltungen für MVFP Akademie
REFRESH-INTERVAL;VALUE=DURATION:PT1H
X-Robots-Tag:noindex
X-PUBLISHED-TTL:PT1H
BEGIN:VTIMEZONE
TZID:Europe/Berlin
BEGIN:DAYLIGHT
TZOFFSETFROM:+0100
TZOFFSETTO:+0200
TZNAME:CEST
DTSTART:20190331T010000
END:DAYLIGHT
BEGIN:STANDARD
TZOFFSETFROM:+0200
TZOFFSETTO:+0100
TZNAME:CET
DTSTART:20191027T010000
END:STANDARD
BEGIN:DAYLIGHT
TZOFFSETFROM:+0100
TZOFFSETTO:+0200
TZNAME:CEST
DTSTART:20200329T010000
END:DAYLIGHT
BEGIN:STANDARD
TZOFFSETFROM:+0200
TZOFFSETTO:+0100
TZNAME:CET
DTSTART:20201025T010000
END:STANDARD
BEGIN:DAYLIGHT
TZOFFSETFROM:+0100
TZOFFSETTO:+0200
TZNAME:CEST
DTSTART:20210328T010000
END:DAYLIGHT
BEGIN:STANDARD
TZOFFSETFROM:+0200
TZOFFSETTO:+0100
TZNAME:CET
DTSTART:20211031T010000
END:STANDARD
BEGIN:DAYLIGHT
TZOFFSETFROM:+0100
TZOFFSETTO:+0200
TZNAME:CEST
DTSTART:20220327T010000
END:DAYLIGHT
BEGIN:STANDARD
TZOFFSETFROM:+0200
TZOFFSETTO:+0100
TZNAME:CET
DTSTART:20221030T010000
END:STANDARD
END:VTIMEZONE
BEGIN:VEVENT
DTSTART;VALUE=DATE:20200101
DTEND;VALUE=DATE:20220101
DTSTAMP:20260422T231827
CREATED:20201004T060619Z
LAST-MODIFIED:20201020T081356Z
UID:29713-1577836800-1640995199@mvfp-akademie.de
SUMMARY:VDZ Summits
DESCRIPTION:Auf den VDZ Summits bringen wir Sie mit nationalen und internationalen Medienexperten zusammen. Hier haben Sie die exklusive Chance sich mit dem Top-Management auszutauschen und von erfolgreichen Best Practices\, Trends und Strategien zu profitieren. Damit die Kongresse in 2020 nicht ausfallen müssen\, werden sie virtuell durchgeführt. Haben Sie einen Summit verpasst? Kein Problem\, wir haben die Veranstaltungen aufgezeichnet und gerne können Sie sich diese als Video-on-Demand ansehen. \n\nVDZ Digital Advertising Summit 2020\n9 Vorträge zu Themen wie Rabattpolitik\, Leadgenerierung und Datenmanagement\, Verkaufssteuerung sowie Best Practices von Buzzfeed\, Vincentz Network und Falke Media. Lernen Sie mehr über die neuesten Trends\, Innovationen und Strategien verschiedener Marktplayer im Media Sales Budiness. \nVideoaufzeichnung | Preis: € 99\,- (zzgl. MwSt.) \n\nVDZ Distribution Summit: Digitaler Kick-off 2020\n2 Vorträge: Interview mit Martin Lange (Geschäftsführer\, PVZ und Vorsitzender des Bundesverbands Abonnement) und der Vortrag von Stefan Ottlitz (Geschäftsführer\, SPIEGEL-Gruppe) mit dem Titel „Fünf Leitlinien für die Krise − Wie Publisher mit der richtigen Pay-Strategie langfristig krisenfester werden können„. \nVideoaufzeichnung | Preis: € 29\,- (zzgl. MwSt.) \n\nVDZ Tech Summit: Digitaler Kick-off\nNehmen Sie live am virtuellen Kick-off am 9. November von 10.30 – 12:00 Uhr teil. Es erwarten Sie zwei Keynotes von Prof. Dr. Sebastian Stiller (Autor\, Institute for Mathematical Optimization\, TU Braunschweig) zum Thema „Mythos KI“ und Carsten Sander (Executive Director Monetisation Technology & Solutions\, BurdaForward) mit dem Titel „Wer sich 20 Jahre lang nur von Cookies ernährt- lebt nicht gesund“. \nPreis: Teilnahme für VDZ Mitglieder kostenfrei \n\n 
URL:https://mvfp-akademie.de/event/vdz-summits/
CATEGORIES:Anzeigen,Fachübergreifend,IT und Digital,Konferenzen,Marketing,Vertrieb
ATTACH;FMTTYPE=image/jpeg:https://mvfp-akademie.de/wp-content/uploads/2019/09/008_1.jpg
END:VEVENT
END:VCALENDAR