BEGIN:VCALENDAR
VERSION:2.0
PRODID:-//MVFP Akademie - ECPv6.15.12.2//NONSGML v1.0//EN
CALSCALE:GREGORIAN
METHOD:PUBLISH
X-ORIGINAL-URL:https://mvfp-akademie.de
X-WR-CALDESC:Veranstaltungen für MVFP Akademie
REFRESH-INTERVAL;VALUE=DURATION:PT1H
X-Robots-Tag:noindex
X-PUBLISHED-TTL:PT1H
BEGIN:VTIMEZONE
TZID:Europe/Berlin
BEGIN:DAYLIGHT
TZOFFSETFROM:+0100
TZOFFSETTO:+0200
TZNAME:CEST
DTSTART:20140330T010000
END:DAYLIGHT
BEGIN:STANDARD
TZOFFSETFROM:+0200
TZOFFSETTO:+0100
TZNAME:CET
DTSTART:20141026T010000
END:STANDARD
BEGIN:DAYLIGHT
TZOFFSETFROM:+0100
TZOFFSETTO:+0200
TZNAME:CEST
DTSTART:20150329T010000
END:DAYLIGHT
BEGIN:STANDARD
TZOFFSETFROM:+0200
TZOFFSETTO:+0100
TZNAME:CET
DTSTART:20151025T010000
END:STANDARD
BEGIN:DAYLIGHT
TZOFFSETFROM:+0100
TZOFFSETTO:+0200
TZNAME:CEST
DTSTART:20160327T010000
END:DAYLIGHT
BEGIN:STANDARD
TZOFFSETFROM:+0200
TZOFFSETTO:+0100
TZNAME:CET
DTSTART:20161030T010000
END:STANDARD
END:VTIMEZONE
BEGIN:VEVENT
DTSTART;TZID=Europe/Berlin:20151117T100000
DTEND;TZID=Europe/Berlin:20151118T163000
DTSTAMP:20260423T073811
CREATED:20150902T082512Z
LAST-MODIFIED:20151015T142446Z
UID:1411-1447754400-1447864200@mvfp-akademie.de
SUMMARY:Wettbewerbsvorteil Webvideo: Erfolgsfaktoren für Content und Vermarktung
DESCRIPTION:Wachstumsfeld Bewegtbild \nOnlineangebote ohne Videos sind heutzutage nicht mehr vorstellbar. Die Nutzung von Bewegtbild im Internet nimmt rapide zu: Neue Empfangsmöglichkeiten über Smartphones\, Tablet-PCs und das hybride TV-Empfangsgerät bieten wachsende Reichweiten für Videoinhalte. Parallel dazu steigt die Attraktivität von Web-Video für Werbekunden. Video-Advertising gewinnt in rasanten Schritten Marktanteile hinzu und Verlage bieten hier ein attraktives Umfeld. \nPotentiale \nWeb-TV und Online-Videos sind heute auch für kleinere und mittlere Unternehmen hochattraktive Inhalte\, die sich zu erschwinglichen Kosten herstellen oder zukaufen lassen. Multimediale Inhalte gewinnen durch die sinnvolle Ergänzung mit Bewegtbild weiter an Bedeutung\, schaffen neue Wege der Zielgruppenansprache und erweitern journalistische Erzählformen. Medienhäuser\, die diese neuen Möglichkeiten konsequent nutzen\, können mehr Traffic und Umsatz generieren und mit neuen Geschäftsmodellen ihre Stellung am Markt weiter ausbauen. \nStrategiekompetenz und Praxiswissen \nDie Veranstaltung vermittelt alle relevanten Kenntnisse für die Konzeption und Umsetzung einer erfolgreichen Online-Strategie. Gemeinsam mit Experten erarbeiten Sie passende Strategien für Ihr Unternehmen und erhalten vielfältige Entscheidungshilfen zu Technik\, passenden Formaten und dem Produktionsmanagement. \nWarum Bewegtbild nur dem TV überlassen? Hier erfahren Sie\, wie den Herausforderungen von Online-Video-Formaten zwischen Nachfrageboom und Monetarisierung zu begegnen ist\, welche Geschäftsmodelle im Markt funktionieren und welches Kreativpotenzial im Medium „Bewegtbild“ steckt. \nIn Kooperation mit:
URL:https://mvfp-akademie.de/event/wettbewerbsvorteil-webvideo/
LOCATION:RTL Journalistenschule für TV und Multimedia GmbH\, Picassoplatz 1\, Köln\, 50679\, Deutschland
CATEGORIES:Redaktion,WebSeminare
ATTACH;FMTTYPE=image/jpeg:https://mvfp-akademie.de/wp-content/uploads/2015/09/Fotolia_86844328_XL_sborisov-scaled.jpg
END:VEVENT
END:VCALENDAR