BEGIN:VCALENDAR
VERSION:2.0
PRODID:-//MVFP Akademie - ECPv6.15.12.2//NONSGML v1.0//EN
CALSCALE:GREGORIAN
METHOD:PUBLISH
X-ORIGINAL-URL:https://mvfp-akademie.de
X-WR-CALDESC:Veranstaltungen für MVFP Akademie
REFRESH-INTERVAL;VALUE=DURATION:PT1H
X-Robots-Tag:noindex
X-PUBLISHED-TTL:PT1H
BEGIN:VTIMEZONE
TZID:Europe/Berlin
BEGIN:DAYLIGHT
TZOFFSETFROM:+0100
TZOFFSETTO:+0200
TZNAME:CEST
DTSTART:20140330T010000
END:DAYLIGHT
BEGIN:STANDARD
TZOFFSETFROM:+0200
TZOFFSETTO:+0100
TZNAME:CET
DTSTART:20141026T010000
END:STANDARD
BEGIN:DAYLIGHT
TZOFFSETFROM:+0100
TZOFFSETTO:+0200
TZNAME:CEST
DTSTART:20150329T010000
END:DAYLIGHT
BEGIN:STANDARD
TZOFFSETFROM:+0200
TZOFFSETTO:+0100
TZNAME:CET
DTSTART:20151025T010000
END:STANDARD
BEGIN:DAYLIGHT
TZOFFSETFROM:+0100
TZOFFSETTO:+0200
TZNAME:CEST
DTSTART:20160327T010000
END:DAYLIGHT
BEGIN:STANDARD
TZOFFSETFROM:+0200
TZOFFSETTO:+0100
TZNAME:CET
DTSTART:20161030T010000
END:STANDARD
END:VTIMEZONE
BEGIN:VEVENT
DTSTART;TZID=Europe/Berlin:20150915T100000
DTEND;TZID=Europe/Berlin:20150916T160000
DTSTAMP:20260423T140624
CREATED:20150902T082631Z
LAST-MODIFIED:20151007T085312Z
UID:1413-1442311200-1442419200@mvfp-akademie.de
SUMMARY:Wirkungsvolle Gestaltung – Grafikdesign für Nicht-Grafiker\, Entscheider und Auftraggeber
DESCRIPTION:Sie beurteilen Grafikdesign und Layout von Flyern\, Broschüren  der Anzeigen? Ehrlich gefragt: Sind Sie häufiger mit dem Ergebnis unzufrieden? Sind mehrere Korrekturdurchläufe nötig\, bis man endlich am Ziel ist? Im Tagesgeschäft ist das Vorgehen nach Versuch und Irrtum für Auftraggeber aus Werbe- und Kommunikationsabteilungen frustrierend und es kostet Zeit\, Geld und Nerven. \nSchärfen Sie die Sinne und schulen Sie den Blick für die sichere Beurteilung von Werbewirkung im Grafikdesign. \nDamit das Layout die Zielgruppe von Ihrer Botschaft überzeugt hilft mehr Fachwissen über Wahrnehmung\, Layout\, Typografie\, Farbe und Abbildungen. Die Schlüssel zu wirkungsvoller Gestaltung. Solides und praxisorientiertes Basiswissen gibt Ihnen Sicherheit bei der Beurteilung grafischer Arbeiten und der Moderation von Grafik-Designern oder Agenturen.
URL:https://mvfp-akademie.de/event/wirkungsvolle-gestaltung-grafikdesign-fuer-nicht-grafiker-entscheider-und-auftraggeber/
LOCATION:Mercure Hotel Hamburg Mitte\, Schröderstiftstraße 3\, Hamburg\, 20146
CATEGORIES:Fachübergreifend
ATTACH;FMTTYPE=image/jpeg:https://mvfp-akademie.de/wp-content/uploads/2015/09/Fotolia_67637833_XL_Marco2811-scaled.jpg
END:VEVENT
END:VCALENDAR