BEGIN:VCALENDAR
VERSION:2.0
PRODID:-//MVFP Akademie - ECPv6.15.12.2//NONSGML v1.0//EN
CALSCALE:GREGORIAN
METHOD:PUBLISH
X-ORIGINAL-URL:https://mvfp-akademie.de
X-WR-CALDESC:Veranstaltungen für MVFP Akademie
REFRESH-INTERVAL;VALUE=DURATION:PT1H
X-Robots-Tag:noindex
X-PUBLISHED-TTL:PT1H
BEGIN:VTIMEZONE
TZID:Europe/Berlin
BEGIN:DAYLIGHT
TZOFFSETFROM:+0100
TZOFFSETTO:+0200
TZNAME:CEST
DTSTART:20180325T010000
END:DAYLIGHT
BEGIN:STANDARD
TZOFFSETFROM:+0200
TZOFFSETTO:+0100
TZNAME:CET
DTSTART:20181028T010000
END:STANDARD
BEGIN:DAYLIGHT
TZOFFSETFROM:+0100
TZOFFSETTO:+0200
TZNAME:CEST
DTSTART:20190331T010000
END:DAYLIGHT
BEGIN:STANDARD
TZOFFSETFROM:+0200
TZOFFSETTO:+0100
TZNAME:CET
DTSTART:20191027T010000
END:STANDARD
BEGIN:DAYLIGHT
TZOFFSETFROM:+0100
TZOFFSETTO:+0200
TZNAME:CEST
DTSTART:20200329T010000
END:DAYLIGHT
BEGIN:STANDARD
TZOFFSETFROM:+0200
TZOFFSETTO:+0100
TZNAME:CET
DTSTART:20201025T010000
END:STANDARD
END:VTIMEZONE
BEGIN:VEVENT
DTSTART;TZID=Europe/Berlin:20191205T080000
DTEND;TZID=Europe/Berlin:20191205T170000
DTSTAMP:20260424T070944
CREATED:20191119T123622Z
LAST-MODIFIED:20191119T124535Z
UID:25833-1575532800-1575565200@mvfp-akademie.de
SUMMARY:Zukunftsforum Zeitschriften
DESCRIPTION:Der Veranstalter und Vertragspartner dieses Seminars ist die Akademie der Deutschen Medien gGmbH\n \n\nDas Zeitschriften-Business neu ausrichten – \nRelaunch für Organisation\, Produkt und Geschäftsmodell \nEin digitaler Relaunch?! Die Zeitschriftenbranche richtet ihr Geschäft neu aus. Verlage und Medienhäuser punkten mit Innovationsstrategien\, setzen auf neue Magazinkonzepte\, digitale Services und intelligente Vermarktung. Auch Paid Content-Angebote und E-Commerce-Projekte nehmen zu.\nDenn gerade das Konsumverhalten der Generation Netflix zeigt\, dass Leser und Kunden bereit sind\, für digitale Inhalte zu zahlen – wenn ihnen individualisierter Content und eine ansprechende User Experience geboten werden.\nDer steigende Bedarf nach mehr Customer Centricity stellt die Branche vor große Herausforderungen: Eine kundenorientierte Neuausrichtung bedeutet schließlich nicht nur\, neue Produkte und digitale Geschäftsmodelle zu entwickeln\, sondern auch agile Prozesse und eine Unternehmenskultur einzuführen\, die diese allumfassende Transformation unterstützt. \nwww.zukunftsforum-zeitschriften.de
URL:https://mvfp-akademie.de/event/zukunftsforum-zeitschriften/
LOCATION:Literaturhaus München\, Salvatorplatz 1\, München\,  80333 
CATEGORIES:IT und Digital,Marketing,Redaktion
ATTACH;FMTTYPE=image/jpeg:https://mvfp-akademie.de/wp-content/uploads/2019/11/a-2.jpg
END:VEVENT
END:VCALENDAR