BEGIN:VCALENDAR
VERSION:2.0
PRODID:-//MVFP Akademie - ECPv6.15.12.2//NONSGML v1.0//EN
CALSCALE:GREGORIAN
METHOD:PUBLISH
X-ORIGINAL-URL:https://mvfp-akademie.de
X-WR-CALDESC:Veranstaltungen für MVFP Akademie
REFRESH-INTERVAL;VALUE=DURATION:PT1H
X-Robots-Tag:noindex
X-PUBLISHED-TTL:PT1H
BEGIN:VTIMEZONE
TZID:Europe/Berlin
BEGIN:DAYLIGHT
TZOFFSETFROM:+0100
TZOFFSETTO:+0200
TZNAME:CEST
DTSTART:20250330T010000
END:DAYLIGHT
BEGIN:STANDARD
TZOFFSETFROM:+0200
TZOFFSETTO:+0100
TZNAME:CET
DTSTART:20251026T010000
END:STANDARD
BEGIN:DAYLIGHT
TZOFFSETFROM:+0100
TZOFFSETTO:+0200
TZNAME:CEST
DTSTART:20260329T010000
END:DAYLIGHT
BEGIN:STANDARD
TZOFFSETFROM:+0200
TZOFFSETTO:+0100
TZNAME:CET
DTSTART:20261025T010000
END:STANDARD
BEGIN:DAYLIGHT
TZOFFSETFROM:+0100
TZOFFSETTO:+0200
TZNAME:CEST
DTSTART:20270328T010000
END:DAYLIGHT
BEGIN:STANDARD
TZOFFSETFROM:+0200
TZOFFSETTO:+0100
TZNAME:CET
DTSTART:20271031T010000
END:STANDARD
END:VTIMEZONE
BEGIN:VEVENT
DTSTART;TZID=Europe/Berlin:20260428T093000
DTEND;TZID=Europe/Berlin:20260428T123000
DTSTAMP:20260425T171240
CREATED:20251118T131838Z
LAST-MODIFIED:20260413T083528Z
UID:55511-1777368600-1777379400@mvfp-akademie.de
SUMMARY:Sichtbar in KI-Antworten: GEO-Strategien für moderne Verlage
DESCRIPTION:Generative Engine Optimization (GEO) bezeichnet die Maßnahmen und Strategien\, die ergriffen werden\, um die Sichtbarkeit einer Quelle und ihres Contents in den Antworten von Chatbots oder LLM-Suchergebnissen zu verbessern. GEO gilt dabei als Fortsetzung klassischer SEO-Maßnahmen\, weshalb wir in dieser Fortbildung Basiswissen zum Thema SEO voraussetzen. Im WebSeminar lernen Sie dann vertiefend\, wie Verlage ihre Inhalte dort platzieren\, wo Nutzer künftig zuerst Antworten erhalten: direkt in generierten KI-Ergebnissen. \nUnser Experte Patrick Klingberg zeigt in unserem kompakten WebSeminar\, wie Sprachmodelle Informationen auswählen und wie Sie wiederum Ihre Artikel\, Themenseiten und Dossiers usw. so optimieren\, dass sie für ChatGPT\, Perplexity und Googles KI-Modus besonders relevant werden. Damit einher gehen auch die technischen Voraussetzungen\, die dafür erfüllt sein müssen. Durch Tools\, Checklisten und Live-Analysen bauen Sie systematisch KI-Reputation auf und sorgen dafür\, dass Ihre Inhalte in KI-Antworten sichtbar\, vertrauenswürdig und wettbewerbsfähig bleiben.
URL:https://mvfp-akademie.de/event/sichtbar-in-ki-antworten-geo-strategien-fuer-moderne-verlage/
LOCATION:Die Durchführung erfolgt DIGITAL!
CATEGORIES:Fachübergreifend,IT und Digital,KI,WebSeminare
ATTACH;FMTTYPE=image/png:https://mvfp-akademie.de/wp-content/uploads/2025/11/Header_GEO-Seminar-1200x300-px.png
END:VEVENT
BEGIN:VEVENT
DTSTART;TZID=Europe/Berlin:20260507T100000
DTEND;TZID=Europe/Berlin:20260507T110000
DTSTAMP:20260425T171240
CREATED:20260420T074400Z
LAST-MODIFIED:20260421T092552Z
UID:57692-1778148000-1778151600@mvfp-akademie.de
SUMMARY:Umsetzung Widerrufsbutton für Online-Verträge
DESCRIPTION:Ab dem 19. Juni 2026 müssen Unternehmen bei B2C-Onlineverträgen eine elektronische Widerrufsfunktion bereitstellen\, wenn ein gesetzliches Widerrufsrecht besteht. In der WebSession zeigen BDZV und MVFP\, was die neue Pflicht konkret bedeutet\, wie der Widerrufsbutton ausgestaltet sein muss und welche rechtlichen\, technischen und organisatorischen Schritte jetzt anstehen. \nDie Teilnahme an dieser WebSession ist den Mitgliedern von MVFP und BDZV vorbehalten und für diese kostenlos. Die Anmeldung erfolgt über untenstehendes Formular.
URL:https://mvfp-akademie.de/event/umsetzung-widerrufsbutton-fuer-online-vertraege/
LOCATION:Anmeldung über das untenstehende Formular\, Die Durchführung erfolgt DIGITAL!
CATEGORIES:Fachübergreifend,WebSessions
ATTACH;FMTTYPE=image/jpeg:https://mvfp-akademie.de/wp-content/uploads/2026/04/Header-Wiederrufsrecht-High-Quality.jpg
END:VEVENT
BEGIN:VEVENT
DTSTART;TZID=Europe/Berlin:20260521T093000
DTEND;TZID=Europe/Berlin:20260522T170000
DTSTAMP:20260425T171240
CREATED:20230404T085928Z
LAST-MODIFIED:20260417T095236Z
UID:42135-1779355800-1779469200@mvfp-akademie.de
SUMMARY:Social Media Bootcamp - Strategie\, Tools & Erfolgsfaktoren
DESCRIPTION:In vielen Unternehmen wird das Potential von Social Media noch nicht richtig genutzt – oft genug wird die Kommunikation auf Facebook\, Instagram\, TikTok\, LinkedIn & Co. nicht strategisch fundiert geführt und als Job abgetan\, der so nebenbei gemacht werden kann. Dabei ist genau das Gegenteil der Fall: Social Media-Aktivitäten können viel bewirken: Leads generieren\, die Verkäufe ankurbeln\, die Marke sichtbar machen und stärken und nicht zuletzt nachhaltige Kundenbindung aufbauen. Guter Content\, egal ob auf LinkedIn\, Instagram\, Facebook oder TikTok sowie die Betreuung der Social Media Community brauchen aber Ressourcen und vor allem eine durchdachte Strategie\, die Produkte\, Kanäle und Content geschickt orchestriert. Eine weitere Herausforderung ist\, das viele Verlage sich nur ein sehr kleines Social Media Team leisten und diese begrenzten Ressourcen bestmöglich genutzt werden müssen. \nUnser zweitägiges Social Media Bootcamp unter Leitung von Expertin Sarah Sunderbrink stattet euch mit allem aus\, was es zu Social Media zu wissen gibt: Grundlagen\, Strategieentwicklung\, Umsetzung (auch mit Hilfe von KI) und Tools. \nAm zweiten Tag stehen Best Practice Beispiele im Mittelpunkt\, die zeigen was funktioniert hat\, welche Herausforderungen es gab und was auf dem Weg dorthin gelernt wurde. \nBEIDE TAGE KÖNNEN IM PAKET ODER SEPARAT GEBUCHT WERDEN! \n 
URL:https://mvfp-akademie.de/event/social-media-bootcamp/
LOCATION:Die Durchführung erfolgt DIGITAL!
CATEGORIES:Fachübergreifend,IT und Digital,Marketing,Social & Community,WebSeminare
ATTACH;FMTTYPE=image/png:https://mvfp-akademie.de/wp-content/uploads/2023/04/Header-Website-Social-Media-Bootcamp.png
END:VEVENT
BEGIN:VEVENT
DTSTART;TZID=Europe/Berlin:20260609T093000
DTEND;TZID=Europe/Berlin:20260609T140000
DTSTAMP:20260425T171240
CREATED:20260316T150407Z
LAST-MODIFIED:20260318T063249Z
UID:57365-1780997400-1781013600@mvfp-akademie.de
SUMMARY:AI Act & Co.: Was Verlage bei der Nutzung von KI rechtlich beachten müssen
DESCRIPTION:Die Nutzung von KI ist in der Verlagswelt längst über die Experimentierphase hinausgewachsen. Von der automatisierten Textveredelung in den Redaktionen über KI-gestützte Media-Planung bis hin zu synthetischen Bildern und Videos: Die Technologie ist längst integraler Bestandteil der Wertschöpfungskette. Doch mit der technologischen Reife sind auch die rechtlichen Anforderungen gestiegen. \nDer EU AI Act ist nun in weiten Teilen scharf geschaltet\, die ersten Präzisierungen durch die EU liegen vor. Auch die Rechtsprechung zu TDM (Text and Data Mining) sowie zum Urheberrechtsschutz KI-generierter Werke hat sich signifikant weiterentwickelt. \nJoerg Heidrich\, Fachanwalt für IT-Recht\, zertifizierter KI-Manager und Justizar des Heise Verlags\, begleitet seit Jahren komplexe KI-Projekte an der Schnittstelle von Technologie und Recht. Als erfahrener Praktiker und ambitionierter KI-Nutzer führt er Sie durch das Dickicht aus DSGVO\, AI Act und Urheberrecht. Sie erhalten das notwendige Rüstzeug\, um Haftungsrisiken zu minimieren und Innovationspotenziale rechtssicher auszuschöpfen.
URL:https://mvfp-akademie.de/event/ai-act-co-was-verlage-bei-der-nutzung-von-ki-rechtlich-beachten-muessen/
LOCATION:Die Durchführung erfolgt DIGITAL!
CATEGORIES:Fachübergreifend,IT und Digital,KI,WebSeminare
ATTACH;FMTTYPE=image/png:https://mvfp-akademie.de/wp-content/uploads/2026/03/ai_law_banner_1200x300.png
END:VEVENT
BEGIN:VEVENT
DTSTART;TZID=Europe/Berlin:20260616T100000
DTEND;TZID=Europe/Berlin:20260616T160000
DTSTAMP:20260425T171240
CREATED:20260304T110409Z
LAST-MODIFIED:20260417T095304Z
UID:57189-1781604000-1781625600@mvfp-akademie.de
SUMMARY:Unternehmensbesuch VNR Group: Transformation vom Verlag zum Medientechnologie-Unternehmen
DESCRIPTION:Wie gelingt erfolgreiche Transformation vom klassischen Verlag zum internationalen Medientechnologie-Unternehmen? Beim Unternehmensbesuch erhalten Sie exklusive Einblicke in Strategien\, Technologien und Geschäftsmodelle der VNR Group. Erfahren Sie anhand konkreter Praxisbeispiele\, wie Künstliche Intelligenz\, Plattformlösungen\, datengetriebenes Marketing und moderne IT-Infrastrukturen genutzt werden\, um Wachstum zu skalieren und nachhaltigen Kundenerfolg zu sichern. Experten aus einzelnen Abteilungen erzählen\, wie sie sich für die Zukunft aufstellen\, so dass das Unternehmen auch beim kontinuierlichen Wandel erfolgreich bleibt.\n \n\n \n 
URL:https://mvfp-akademie.de/event/unternehmensbesuch-vnr-group-transformation-vom-verlag-zum-medientechnologie-unternehmen/
LOCATION:VNR Verlag für die Deutsche Wirtschaft AG\, Theodor-Heuss-Straße 2-4\, Bonn\, 53177\, Germany
CATEGORIES:Fachübergreifend,IT und Digital,Marketing,Unternehmensbesuche,Vertrieb
ATTACH;FMTTYPE=image/jpeg:https://mvfp-akademie.de/wp-content/uploads/2026/03/Header-Unternehmensbesuch-VNR-Verlag-High-Quality-1.jpg
END:VEVENT
BEGIN:VEVENT
DTSTART;TZID=Europe/Berlin:20260618T093000
DTEND;TZID=Europe/Berlin:20260618T130000
DTSTAMP:20260425T171240
CREATED:20260309T142733Z
LAST-MODIFIED:20260311T160638Z
UID:57278-1781775000-1781787600@mvfp-akademie.de
SUMMARY:Leadgenerierung für Verlage – Strategie\, Kampagnen & Automatisierung
DESCRIPTION:Neue Abonnenten zu gewinnen wird für Verlage zunehmend aufwendiger und teurer. Wer weiterhin stark auf Affiliate-Netzwerke setzt oder Gewinnspiele als Hauptkanal nutzt\, investiert viel und erzielt häufig nur begrenzte Ergebnisse. Eine strukturierte\, leistungsstarke Lead-Pipeline kann hier einen entscheidenden Unterschied machen und Verlage deutlich unabhängiger aufstellen. In diesem WebSeminar erfahren Sie\, wie Verlage ihre Leadgenerierung strategisch aufbauen\, verschiedene Kampagnentypen gezielt einsetzen und durch konsequente Automatisierung den Cost per Lead nachhaltig senken können. Statt eines theoretischen Modells lernen Sie einen praxiserprobten Ansatz kennen\, der bereits u.a. bei mehreren Tageszeitungsverlagen erfolgreich eingesetzt wird.
URL:https://mvfp-akademie.de/event/leadgenerierung-fuer-verlage-strategie-kampagnen-automatisierung/
LOCATION:Die Durchführung erfolgt DIGITAL!
CATEGORIES:Abo & Subscription,Fachübergreifend,IT und Digital,WebSeminare
ATTACH;FMTTYPE=image/jpeg:https://mvfp-akademie.de/wp-content/uploads/2026/03/Header-Website-Leadgenerierung-High-Quality.jpg
END:VEVENT
BEGIN:VEVENT
DTSTART;TZID=Europe/Berlin:20260622T090000
DTEND;TZID=Europe/Berlin:20260622T170000
DTSTAMP:20260425T171240
CREATED:20260324T125325Z
LAST-MODIFIED:20260424T074619Z
UID:57456-1782118800-1782147600@mvfp-akademie.de
SUMMARY:Workshop: Marke first - Relevanz in Zeiten von KI
DESCRIPTION:Anmeldeschluss ist der 1. Juni 2026! \nDer Medienmarkt wird von KI-generierten Inhalten geflutet\, Aufmerksamkeit ist knapp und Vertrauen wird zur entscheidenden Währung. Wer als Verlag\, als Medienmarke in diesem Umfeld sichtbar bleiben und weiterhin Geld verdienen will\, braucht mehr als guten Journalismus. Es braucht einen geschärften strategischen Weitblick auf zukünftige Entwicklungen und ein klares Markenprofil\, das Orientierung gibt\, Vertrauen schafft und an jedem Kontaktpunkt ein differenziertes Erlebnis liefert. Marke als Kompass… \nIm Workshop zeigen Michael Ahlf und Konrad Weber\, wie die eigene Marke als praktischer Kompass funktioniert – von der strategischen Schärfung über die Ableitung konkreter Formate und Angebote bis hin zur konsequenten Umsetzung an allen relevanten Kontaktpunkten. Denn die beste Strategie wirkt erst\, wenn sie im Alltag der Organisation ankommt: in Prozessen\, Systemen und im täglichen Handeln aller Beteiligten. \nDer Tag verbindet fachliche Impulse und inspirierende Beispiele aus der Medienbranche mit direkt anwendbaren Einzel- und Gruppenübungen. Das Programm wechselt zwischen Impulsen\, Working Sessions und Diskussionen. Die Teilnehmenden arbeiten an ihren eigenen Marken: Sie verbinden ihr Markenversprechen mit den Bedürfnissen ihrer Zielgruppen\, entwickeln daraus konkrete Format- und Produktideen und erarbeiten einen realistischen Plan für die Implementierung. KI wird dabei als Sparring-Partner eingesetzt – vorgepromptete Fragen helfen bei Reflexion und Struktur\, die konzeptionellen Entscheidungen treffen die Teilnehmenden selbst.
URL:https://mvfp-akademie.de/event/workshop-marke-first-relevanz-in-zeiten-von-ki/
LOCATION:Space\, Am Sandtorkai 27\, Hamburg\, Hamburg\, 20457
CATEGORIES:Fachübergreifend,KI,Workshops
ATTACH;FMTTYPE=image/png:https://mvfp-akademie.de/wp-content/uploads/2026/03/Header-Workshop-Branding.png
END:VEVENT
BEGIN:VEVENT
DTSTART;TZID=Europe/Berlin:20260623T100000
DTEND;TZID=Europe/Berlin:20260624T160000
DTSTAMP:20260425T171240
CREATED:20260203T155724Z
LAST-MODIFIED:20260206T103949Z
UID:56333-1782208800-1782316800@mvfp-akademie.de
SUMMARY:AI meets Media Sales
DESCRIPTION:Die Veranstaltung finden in Kooperation von BDZV und MVFP statt. \n \nMit den richtigen KI-Tools und Workflows lässt sich mehr erreichen – schneller und besser. In diesem Workshop zeigen wir Ihnen\, wie Sie Künstliche Intelligenz gezielt im Anzeigenverkauf einsetzen. \nE-Mails verfassen\, Angebote erstellen\, Leads qualifizieren – viele dieser Aufgaben kosten täglich wertvolle Zeit. Zeit\, die viel besser in persönliche Kundengespräche\, kreative Lösungsansätze und strategische Planung investiert werden könnte. In unserem praxisnahen Digital-Workshop lernen Sie\, wie in der Werbevermarktung KI gezielt einsetzt wird\, um Routinen zu automatisieren\, ohne dabei Qualitätseinbußen zu erleiden. Im Gegenteil: Die Kommunikation wird durch KI nicht nur schneller\, sondern auch präziser und individueller. \nBitte geben Sie bei der Anmeldung im Kommentarfeld an\, wenn Sie MVFP Mitglied sind\, um den vergünstigten Mitgliedspreis zu erhalten. \nHier geht es zur Anmeldung
URL:https://mvfp-akademie.de/event/ai-meets-media-sales/
LOCATION:Die Durchführung erfolgt DIGITAL!
CATEGORIES:Anzeigen,Fachübergreifend,IT und Digital,KI,Marketing,Vertrieb
ATTACH;FMTTYPE=image/jpeg:https://mvfp-akademie.de/wp-content/uploads/2026/02/Header-BDZV-Media-Sales-Website-High-Quality.jpg
END:VEVENT
BEGIN:VEVENT
DTSTART;TZID=Europe/Berlin:20260701T093000
DTEND;TZID=Europe/Berlin:20260701T123000
DTSTAMP:20260425T171240
CREATED:20260331T081524Z
LAST-MODIFIED:20260331T082756Z
UID:57498-1782898200-1782909000@mvfp-akademie.de
SUMMARY:Claude kompakt: Prompting\, Oberfläche & Add-in für Excel
DESCRIPTION:KI verändert die Arbeit in Redaktionen\, Marketing- und Vertriebsteams von Medienunternehmen grundlegend. Claude ist dabei eine der leistungsstärksten Alternativen am Markt und doch nutzen die meisten nur einen Bruchteil der Möglichkeiten. In diesem praxisorientierten WebSeminar lernen Sie\, die Claude-Oberfläche sicher zu bedienen\, Prompts gezielt für verlagstypische Aufgaben zu formulieren und das Claude-Add-in direkt in Excel einzusetzen. Anhand von Live-Demos\, sofort übertragbaren Vorlagen und direktem Austausch erfahren Sie alles praxisnah und kompakt ohne viel Theorie.
URL:https://mvfp-akademie.de/event/claude-kompakt-prompting-oberflaeche-add-in-fuer-excel/
LOCATION:Die Durchführung erfolgt DIGITAL!
CATEGORIES:Fachübergreifend,IT und Digital,KI,WebSeminare
ATTACH;FMTTYPE=image/png:https://mvfp-akademie.de/wp-content/uploads/2026/03/Screenshot-2026-03-31-102724.png
END:VEVENT
BEGIN:VEVENT
DTSTART;TZID=Europe/Berlin:20260702T093000
DTEND;TZID=Europe/Berlin:20260702T150000
DTSTAMP:20260425T171240
CREATED:20231222T120951Z
LAST-MODIFIED:20260304T120839Z
UID:46553-1782984600-1783004400@mvfp-akademie.de
SUMMARY:Newsletter als Geschäftsmodell: Wie kann ich mit redaktionellen E-Mails Geld verdienen?
DESCRIPTION:Redaktionelle Newsletter gehören seit einiger Zeit zu den Trend-Themen der Branche\, was wohl auch noch eine Weile so bleiben wird. Nur weil jedoch momentan fast jeder Newsletter veröffentlicht\, bedeutet das noch nicht\, dass sie dann von alleine laufen\, denn viele Verteiler schrumpfen stetig aufgrund der schlechten Qualität der E-Mailadressen und auch das Engagement wird hierdurch beeinträchtigt. In diesem WebSeminar lernen Sie\, wie Sie Ihre Newsletterstrategie optimieren\, um nachhaltiges Wachstum zu erzielen und Ihre Unternehmensziele zu erreichen. \nBest Cases folgen.
URL:https://mvfp-akademie.de/event/newsletter-als-geschaeftsmodell-wie-kann-ich-mit-redaktionellen-e-mails-geld-verdienen/
LOCATION:Die Durchführung erfolgt DIGITAL!
CATEGORIES:Fachübergreifend,IT und Digital,Vertrieb
ATTACH;FMTTYPE=image/jpeg:https://mvfp-akademie.de/wp-content/uploads/2023/12/Banner-Newsletter-als-Geschftsmodell-copy-2-High-Quality.jpg
END:VEVENT
BEGIN:VEVENT
DTSTART;TZID=Europe/Berlin:20260903T093000
DTEND;TZID=Europe/Berlin:20260903T123000
DTSTAMP:20260425T171240
CREATED:20250502T121543Z
LAST-MODIFIED:20260422T084610Z
UID:53637-1788427800-1788438600@mvfp-akademie.de
SUMMARY:Fokus auf ChatGPT: Effizienzgewinne für Redaktion\, Marketing & Produkt
DESCRIPTION:Die Einsatzmöglichkeiten von ChatGPT sind vielseitig und schier endlos\, aber auf vielen Laptops kommt das LLM doch noch eher punktuell\, wenig strategisch und im Testmodus zum Einsatz. Dabei braucht es für optimale Ergebnisse nur einige wenige Tipps und Tricks. \nDas ändert sich mit diesem WebSeminar! Unser Digitalexperte Patrick Klingberg zeigt Schritt für Schritt\, wie Sie ChatGPT professionell nutzen: von der individuellen Einrichtung bis zur praxistauglichen Prompt-Vorlage. Durch detaillierte Custom Instructions werden Anfragen bei ChatGPT auf Projekte und Aufgaben zugeschnitten und liefern so personalisierte und effiziente Ergebnisse. Die Inhalte sind dabei auf die unterschiedlichen Rollen im Medienunternehmen abgestimmt. Im Mittelpunkt steht das strategische Prompting: Was macht einen starken Prompt aus und wie lassen sich typische Aufgaben\, von der Themenrecherche über Headlines bis zur Abo-Kommunikation\, mit Hilfe von Vorlagen automatisieren? \nDas WebSeminar bietet Live-Demonstrationen sowie praxisnahe Anwendungsbeispiele und schafft einen direkten Transfer in den beruflichen Alltag. Das Ziel ist ein souveräner und produktiver Einsatz von KI im eigenen Verantwortungsbereich.
URL:https://mvfp-akademie.de/event/fokus-auf-chatgpt-effizienzgewinne-fuer-redaktion-marketing-produkt/
CATEGORIES:Fachübergreifend,IT und Digital,KI,WebSeminare
ATTACH;FMTTYPE=image/jpeg:https://mvfp-akademie.de/wp-content/uploads/2025/05/Header-Fokus-auf-ChatGPT-copy-1200x300-px.jpg
END:VEVENT
BEGIN:VEVENT
DTSTART;TZID=Europe/Berlin:20260908T093000
DTEND;TZID=Europe/Berlin:20260908T153000
DTSTAMP:20260425T171240
CREATED:20230302T124347Z
LAST-MODIFIED:20260205T104434Z
UID:41615-1788859800-1788881400@mvfp-akademie.de
SUMMARY:Aboshop 2.0 – Erfolgsfaktoren & Quick-wins
DESCRIPTION:Wer kennt diese Situation nicht? Man verlässt einen Onlineshop aufgrund einer unübersichtlichen Navigation\, einer zu komplexen oder unübersichtlichen Angebotsstruktur oder zu langen Bestellprozessen. Potenzielle Kundinnen und Kunden machen sich bei solchen Hürden schnell auf die Suche nach Alternativen. \nZeitgemäße Aboshops müssen daher verschiedenste Anforderungen erfüllen\, um dauerhaft positive Nutzererfahrungen zu bieten und die potenzielle Leserschaft zu überzeugen. Hierbei sind u.a. folgende Aspekte wichtig: klare Vorteilskommunikation\, persönliche Ansprache\, Übersichtlichkeit der Angebote sowie eine Vielzahl von Zahlungsmethoden. \nUnser Experte zeigt Ihnen in unserem WebSeminar\, wie ein erfolgreicher Aboshop aussehen sollte\, um Kunden und Suchmaschinen gleichermaßen zufrieden zu stellen.
URL:https://mvfp-akademie.de/event/aboshop-2-0-erfolgsfaktoren-quick-wins-2/
LOCATION:Die Durchführung erfolgt DIGITAL!
CATEGORIES:IT und Digital,Marketing,Vertrieb
ATTACH;FMTTYPE=image/jpeg:https://mvfp-akademie.de/wp-content/uploads/2023/03/Header-Aboshop-1200x200-px-High-Quality.jpg
END:VEVENT
BEGIN:VEVENT
DTSTART;VALUE=DATE:20260921
DTEND;VALUE=DATE:20260923
DTSTAMP:20260425T171240
CREATED:20220411T134140Z
LAST-MODIFIED:20260302T124321Z
UID:35285-1789948800-1790121599@mvfp-akademie.de
SUMMARY:MVFP Distribution Summit'26 | Anmeldung
DESCRIPTION:MVFP Distribution Summit\n21. & 22. September 2026 in Hamburg\n\nKonditionen\n\nHamburg\nEarly-Bird-Rate (gültig bis zum 30. Juni)\n– MVFP-Mitglied € 890\,- (zzgl. MwSt.)\n– Nicht-Mitglied € 990\,- (zzgl. MwSt.) \nRegular-Rate (gültig ab 1. Juli)\n– MVFP-Mitglied € 1090\,- (zzgl. MwSt.)\n– Nicht-Mitglied € 1190\,- (zzgl. MwSt.) \nSprechen Sie uns an für Gruppenrabatte (ab 3 Personen)! \nLivestream\nEarly-Bird-Rate (gültig bis zum 30. Juni)\n– MVFP-Mitglied € 290\,- (zzgl. MwSt.)\n– Nicht-Mitglied € 390\,- (zzgl. MwSt.)\n– Company Pass € 1500\,- (zzgl. MwSt.)\nMit dem „Company Pass“ erhalten bis zu 10 Personen Zugang zum Livestream\n\nRegular-Rate (gültig ab 1. Juli)\n– MVFP-Mitglied € 490\,- (zzgl. MwSt.)\n– Nicht-Mitglied € 590\,- (zzgl. MwSt.)\n– Company Pass € 2500\,- (zzgl. MwSt.)\nMit dem „Company Pass“ erhalten bis zu 10 Personen Zugang zum Livestream \n\n>> Mehr Details zur Konferenz <<
URL:https://mvfp-akademie.de/event/mvfp-distribution-summit-26/
CATEGORIES:Abo & Subscription,Fachübergreifend,Konferenzen,Vertrieb
ATTACH;FMTTYPE=image/jpeg:https://mvfp-akademie.de/wp-content/uploads/2022/04/Header_Distribution-Summit_2025-High-Quality-2-e1749647040354.jpg
END:VEVENT
BEGIN:VEVENT
DTSTART;TZID=Europe/Berlin:20260930T093000
DTEND;TZID=Europe/Berlin:20260930T163000
DTSTAMP:20260425T171240
CREATED:20260127T105430Z
LAST-MODIFIED:20260127T133326Z
UID:56217-1790760600-1790785800@mvfp-akademie.de
SUMMARY:14. MVFP Umsatzsteuertag 2026
DESCRIPTION:Das Umsatzsteuer-Update für die Medienbranche\n\n\nAuch in 2026 sieht sich unsere Branche im Bereich der Umsatzsteuer vielen Herausforderungen\, Änderungen der Verwaltungsauffassung sowie finanzgerichtlichen Streitigkeiten ausgesetzt. Auf dem Programm stehen wichtige aktuelle Entwicklungen sowie Änderungen bei der Umsatzsteuer. \nAn dem Tag werden aktuelle Umsatzsteuerfragen diskutiert und Entwicklungen in der Gesetzgebung\, Rechtsprechung und Verwaltungsauffassung dargestellt. Dies betrifft Fragen\, wie die Ansicht der EU Kommission zu Daten als Entgelt\, den Umsatzsteuersatz für KI-Anwendungen\, die Steuerbefreiung für Bildungsdienstleistungen\, E-Rechnungs-Update und Abo-Fragestellungen. Aber auch die dann aktuellen Problemstellungen aus Betriebsprüfungen und Klageverfahren\, Bundling-Themen und Vorauskasse-Problemstellungen werden besprochen. \nUnsere Experten geben Ihnen einen umfassenden Überblick über neue Entwicklungen beim EuGH und BFH\, zum verpflichtenden eInvoicing in Deutschland sowie zur aktuellen Verwaltungsanweisung für die Einordnung zum ermäßigten Steuersatz. \nZugleich berichten wir aus den aktuell mit der Verwaltung diskutierten Themen der Eingaben des Verbandes und anhängigen Finanzgerichtsverfahren für die Branche. Auch wird die nun erneut wieder anstehende Änderung der Organschaft und die Vorlagen hierzu beim EuGH ein wichtiges Thema sein. Daneben besprechen wir wichtige Änderungen der Verwaltungsauffassung. \nBeim MVFP Umsatzsteuertag erhalten Sie Hinweise zur rechtlichen Bewertung relevanter Fragen\, sowie zur praktischen Umsetzung. Zusätzlich haben Sie die Gelegenheit zum aktiven Austausch mit den Referenten aus der Gerichtsbarkeit\, Finanzverwaltung\, Unternehmer- und Beraterschaft. Nutzen Sie den Tag um relevante Informationen zu erhalten sowie für fachliche Diskussionen und Ihre Fragen!
URL:https://mvfp-akademie.de/event/14-mvfp-umsatzsteuertag-2026/
CATEGORIES:WebSeminare
ATTACH;FMTTYPE=image/png:https://mvfp-akademie.de/wp-content/uploads/2023/04/Umsatzsteuer-2-1.png
END:VEVENT
BEGIN:VEVENT
DTSTART;TZID=Europe/Berlin:20261006T093000
DTEND;TZID=Europe/Berlin:20261006T143000
DTSTAMP:20260425T171240
CREATED:20250318T151341Z
LAST-MODIFIED:20260414T073702Z
UID:53027-1791279000-1791297000@mvfp-akademie.de
SUMMARY:KI im Abo- und Verlagsservice: Erfolgreich einführen & Chancen nutzen
DESCRIPTION:KI ändert die Spielregeln im Kundenservice. Zwischen automatisierten E-Mail-Dialogen für „Lieferunterbrechungen“ und intelligenten Voicebots für „Reklamationen“ bieten sich enorme Potenziale für personalisierte Kundenerlebnisse. In diesem WebSeminar geht es um die passende Strategie. Es liefert praxisnahe Orientierung\, Tools und Impulse\, um KI erfolgreich und zukunftsfähig im Kundenservice zu integrieren. \nAls Best Cases sind dabei:
URL:https://mvfp-akademie.de/event/ki-im-abo-und-verlagsservice-erfolgreich-einfuehren-chancen-nutzen/
LOCATION:Die Durchführung erfolgt DIGITAL!
CATEGORIES:Abo & Subscription,Fachübergreifend,IT und Digital,KI,Vertrieb,WebSeminare
ATTACH;FMTTYPE=image/jpeg:https://mvfp-akademie.de/wp-content/uploads/2025/03/Header-Nachhaltigkeit-copy-1-copy-High-Quality.jpg
END:VEVENT
BEGIN:VEVENT
DTSTART;TZID=Europe/Berlin:20261013T093000
DTEND;TZID=Europe/Berlin:20261013T123000
DTSTAMP:20260425T171240
CREATED:20250505T103126Z
LAST-MODIFIED:20260424T111047Z
UID:53675-1791883800-1791894600@mvfp-akademie.de
SUMMARY:Wert statt Rabatt: Wie Verlage Preise klug setzen und steigern
DESCRIPTION:Egal ob Digitalabo oder gedruckte Zeitung – die richtige Preisstrategie entscheidet über Wachstum\, Profitabilität und Kundenbindung. Dr. Sebastian Voigt zeigt smarte Preismodelle für Neu- und Bestandskunden\, psychologische Kniffe und Best Practices aus anderen Branchen – speziell zugeschnitten auf die Herausforderungen von Verlagen. Sie erfahren\, was Sie beim Aufsetzen Ihrer Preise beachten sollten\, um langfristig gewinnbringend zu wirtschaften.
URL:https://mvfp-akademie.de/event/wert-statt-rabatt-wie-verlage-preise-klug-setzen-und-steigern/
CATEGORIES:Abo & Subscription,Fachübergreifend,Marketing,Vertrieb,WebSeminare
ATTACH;FMTTYPE=image/jpeg:https://mvfp-akademie.de/wp-content/uploads/2025/05/Header-Pricing-1200x200-px-High-Quality.jpg
END:VEVENT
BEGIN:VEVENT
DTSTART;TZID=Europe/Berlin:20261014T093000
DTEND;TZID=Europe/Berlin:20261014T150000
DTSTAMP:20260425T171240
CREATED:20240919T095632Z
LAST-MODIFIED:20260413T083616Z
UID:50497-1791970200-1791990000@mvfp-akademie.de
SUMMARY:Social Media & KI: KI-Tools erfolgreich in die Social Media Kommunikation integrieren
DESCRIPTION:Entdecken Sie\, wie künstliche Intelligenz (KI) Ihre Social-Media-Strategien transformieren kann!\nIn diesem praxis-orientierten Workshop lernen Sie\, wie Sie KI-Tools clever einsetzen\, um Ihre Inhalte effizienter zu gestalten und Ihren Content gezielt zu skalieren.\nLernen Sie\, KI für die Analyse aktueller Trends\, die Erstellung von Redaktionsplänen bis hin zur Kreation von Text\, Bild und Video zu nutzen. Finden Sie neue Ansätze für die automatisierte Texterstellung und erfahren Sie\, wie Sie Ihre Inhalte effizient mehrfach verwerten können – sei es durch die Umwandlung von Audio- und Videoinhalten in Fachartikel\, die Bearbeitung von langen in kurze Videos oder die automatisierte Internationalisierung von Bewegtbild. Nutzen Sie KI jetzt effektiv\, um Ihre Social-Media-Kommunikation zukunftssicher zu machen und Ihr Marketing auf das nächste Level zu heben! \nDieses WebSeminar ist Teil der MVFP Akademie-Reihe rund um die verschiedenen Einsatzmöglichkeiten von KI-Tools.
URL:https://mvfp-akademie.de/event/social-media-ki-ki-tools-erfolgreich-in-die-social-media-kommunikation-integrieren/
LOCATION:Die Durchführung erfolgt DIGITAL!
CATEGORIES:Fachübergreifend,IT und Digital,KI,Marketing,Vertrieb
ATTACH;FMTTYPE=image/jpeg:https://mvfp-akademie.de/wp-content/uploads/2024/09/Header-KI-Social-Media-High-Quality-1.jpg
END:VEVENT
BEGIN:VEVENT
DTSTART;TZID=Europe/Berlin:20261112T093000
DTEND;TZID=Europe/Berlin:20261112T130000
DTSTAMP:20260425T171240
CREATED:20250828T074151Z
LAST-MODIFIED:20260417T095355Z
UID:54811-1794475800-1794488400@mvfp-akademie.de
SUMMARY:KI-Audio-Strategien für Verlage: Wer nur vorliest\, der verliert
DESCRIPTION:Audio ist weit mehr als ein Knopf zum Vorlesen. Denn fast alle Texte sind ursprünglich fürs Lesen geschrieben\, nicht fürs Hören und müssen inhaltlich verändert werden\, um auch als Audioformat gut zu funktionieren. Mit KI lassen sich Inhalte so aufbereiten\, dass aus Text in wenigen Minuten hochwertige\, personalisierte und lokale Audioformate entstehen. Was früher Studio\, Technik und lange Produktionszeiten brauchte\, passiert heute vollautomatisiert. In diesem WebSeminar lernen Sie aktuelle Audio-Trends kennen\, hören Best Practices aus der Branche und erhalten praxisnahe Einblicke in Workflows und Tools\, mit denen hörbares Audio ohne zusätzlichen Aufwand gelingt.
URL:https://mvfp-akademie.de/event/ki-audio-strategien-fuer-verlage-wer-nur-vorliest-der-verliert/
LOCATION:Die Durchführung erfolgt DIGITAL!
CATEGORIES:KI
ATTACH;FMTTYPE=image/jpeg:https://mvfp-akademie.de/wp-content/uploads/2025/08/Header-WebSeminar-Audio-KI-High-Quality.jpg
END:VEVENT
END:VCALENDAR